BEGIN:VCALENDAR
VERSION:2.0
PRODID:-//BGSQD - ECPv6.15.20//NONSGML v1.0//EN
CALSCALE:GREGORIAN
METHOD:PUBLISH
X-WR-CALNAME:BGSQD
X-ORIGINAL-URL:https://www.bgsqd.com
X-WR-CALDESC:Events for BGSQD
REFRESH-INTERVAL;VALUE=DURATION:PT1H
X-Robots-Tag:noindex
X-PUBLISHED-TTL:PT1H
BEGIN:VTIMEZONE
TZID:America/New_York
BEGIN:DAYLIGHT
TZOFFSETFROM:-0500
TZOFFSETTO:-0400
TZNAME:EDT
DTSTART:20160313T070000
END:DAYLIGHT
BEGIN:STANDARD
TZOFFSETFROM:-0400
TZOFFSETTO:-0500
TZNAME:EST
DTSTART:20161106T060000
END:STANDARD
BEGIN:DAYLIGHT
TZOFFSETFROM:-0500
TZOFFSETTO:-0400
TZNAME:EDT
DTSTART:20170312T070000
END:DAYLIGHT
BEGIN:STANDARD
TZOFFSETFROM:-0400
TZOFFSETTO:-0500
TZNAME:EST
DTSTART:20171105T060000
END:STANDARD
BEGIN:DAYLIGHT
TZOFFSETFROM:-0500
TZOFFSETTO:-0400
TZNAME:EDT
DTSTART:20180311T070000
END:DAYLIGHT
BEGIN:STANDARD
TZOFFSETFROM:-0400
TZOFFSETTO:-0500
TZNAME:EST
DTSTART:20181104T060000
END:STANDARD
END:VTIMEZONE
BEGIN:VEVENT
DTSTART;TZID=America/New_York:20170408T130000
DTEND;TZID=America/New_York:20170408T190000
DTSTAMP:20260425T213032
CREATED:20170303T155943Z
LAST-MODIFIED:20170403T162904Z
UID:6810-1491656400-1491678000@www.bgsqd.com
SUMMARY:2017 NYC Queer Comic Fair
DESCRIPTION:  \n\nWabiSabiZinez and Carmine Street Comics are proud to present the first (hopefully) annual New York City fair geared entirely towards queer sequential art (comics\, graphic novels\, illustrated stories\, photo-comics\, or any other interesting take on the medium of still-visual narrative storytelling).\n\n  \nThe fair is free and open to the public\, thanks to our hosts\, the Bureau of General Services—Queer Division\, located on the second floor of The LGBT Center NYC\, 208 W 13th St.\, room 210.\n\n  \nVendors include:\n  \nWabiSabiZines: WabiSabiZineZ.Storenvy.Com / @Wabi_Sabi_Zinez\nCarmine Street Comics: carminestreetcomics.com / @CarmineStComics\nBearpad: bearpadshop.storenvy.com / @bearpadshop\nTim Bauer: cargocollective.com/tbauerillustration\nDoable Guys: doableguys.tumblr.com/\nEasy: easythecomic.com\nGreg Fox / Kyle’s Bed & Breakfast: Kylecomics.com\nMikey Hope / Preternatch: preternatch.deviantart.com/gallery/\nComics by Patrick J Reilly: comicsbypatrick.com/\nLucky Sanford: luckysanford.com\nSci-Fi Explosion: twitter.com/scifiexplosion\nSusse Sønderby: unteleported-tomatoes.net / @sussesonderby\nShip Jumper: ShipJumperComic.com\nSquareBears: Instagram.com/squarebears\nStevie Wilson: swinku.tumblr.com\nWoolybearz: woolybearz.tumblr.com / @woolybear\nBill Zanowitz: crimefighterinquiry.com / comicbookbears.com\n \n \n \n \n 
URL:https://www.bgsqd.com/event/2017-nyc-queer-comic-fair/
LOCATION:NY
ATTACH;FMTTYPE=image/jpeg:https://www.bgsqd.com/wp-content/uploads/2017/03/Queer-Comic-Fair.jpg
END:VEVENT
END:VCALENDAR