BEGIN:VCALENDAR
VERSION:2.0
PRODID:-//BGSQD - ECPv6.15.20//NONSGML v1.0//EN
CALSCALE:GREGORIAN
METHOD:PUBLISH
X-ORIGINAL-URL:https://www.bgsqd.com
X-WR-CALDESC:Events for BGSQD
REFRESH-INTERVAL;VALUE=DURATION:PT1H
X-Robots-Tag:noindex
X-PUBLISHED-TTL:PT1H
BEGIN:VTIMEZONE
TZID:America/New_York
BEGIN:DAYLIGHT
TZOFFSETFROM:-0500
TZOFFSETTO:-0400
TZNAME:EDT
DTSTART:20160313T070000
END:DAYLIGHT
BEGIN:STANDARD
TZOFFSETFROM:-0400
TZOFFSETTO:-0500
TZNAME:EST
DTSTART:20161106T060000
END:STANDARD
BEGIN:DAYLIGHT
TZOFFSETFROM:-0500
TZOFFSETTO:-0400
TZNAME:EDT
DTSTART:20170312T070000
END:DAYLIGHT
BEGIN:STANDARD
TZOFFSETFROM:-0400
TZOFFSETTO:-0500
TZNAME:EST
DTSTART:20171105T060000
END:STANDARD
BEGIN:DAYLIGHT
TZOFFSETFROM:-0500
TZOFFSETTO:-0400
TZNAME:EDT
DTSTART:20180311T070000
END:DAYLIGHT
BEGIN:STANDARD
TZOFFSETFROM:-0400
TZOFFSETTO:-0500
TZNAME:EST
DTSTART:20181104T060000
END:STANDARD
END:VTIMEZONE
BEGIN:VEVENT
DTSTART;TZID=America/New_York:20170330T190000
DTEND;TZID=America/New_York:20170330T210000
DTSTAMP:20260425T204738
CREATED:20170222T221828Z
LAST-MODIFIED:20170222T221828Z
UID:6794-1490900400-1490907600@www.bgsqd.com
SUMMARY:Belladonna* WITH Sam Ace & Aristilde Kirby (co-presented by Vetch)
DESCRIPTION:  \nBelladonna* Collaborative & Vetch Magazine present: Sam Ace & Aristilde Kirby will read at the Bureau of General Services—Queer Division on March 30\, at 7pm. \nNew chaplets from each reader will be available at the event. \nVetch is the first magazine of its kind\, a journal of poetry solely by trans writers. We aim to publish work that is as excited about being poetry as it is engaged with the social conditions that allow for its production. Say it has an aesthetic and doubles down hard\, wouldn’t that be fun. Belladonna* Collaborative’s programs are supported\, in part\, by public funds from the New York City Department of Cultural Affairs in partnership with the City Council. \n  \nSamuel Ace is the author of Normal Sex\, Home in three days. Don’t wash.\, and Stealth (a collaboration with Maureen Seaton). He has received the Astraea Lesbian Writers Fund Award\, the Firecracker Alternative Book Award and is a two-time finalist for a Lambda Literary Award. His work has appeared in or is forthcoming from Poetry\, Fence\, Posit\, Vinyl\, Troubling the Line: Genderqueer Poetry and Poetics\, Best American Experimental Poetry 2016 and many other publications. www.samuelace.com \n  \nAristilde Kirby is a poet born in the Bronx\, NY\, but currently lives in Carrollton\, GA. She is 25\, a UGA Master Gardener\, was previously published in Vetch (no. 2 & 3). She has a few things in the works\, and hopefully forthcoming. You can just call her Aris\, say her name like Paris without the P or Aeris from FFVII\, but with & without the lisp. She’s a black lesbian in either case. You can find her on twitter @motjustine \n  \n  \n  \n  \n  \n  \n 
URL:https://www.bgsqd.com/event/belladonna/
LOCATION:NY
ATTACH;FMTTYPE=image/jpeg:https://www.bgsqd.com/wp-content/uploads/2017/02/unnamed.jpg
END:VEVENT
END:VCALENDAR