BEGIN:VCALENDAR
VERSION:2.0
PRODID:-//BGSQD - ECPv6.15.20//NONSGML v1.0//EN
CALSCALE:GREGORIAN
METHOD:PUBLISH
X-WR-CALNAME:BGSQD
X-ORIGINAL-URL:https://www.bgsqd.com
X-WR-CALDESC:Events for BGSQD
REFRESH-INTERVAL;VALUE=DURATION:PT1H
X-Robots-Tag:noindex
X-PUBLISHED-TTL:PT1H
BEGIN:VTIMEZONE
TZID:America/New_York
BEGIN:DAYLIGHT
TZOFFSETFROM:-0500
TZOFFSETTO:-0400
TZNAME:EDT
DTSTART:20160313T070000
END:DAYLIGHT
BEGIN:STANDARD
TZOFFSETFROM:-0400
TZOFFSETTO:-0500
TZNAME:EST
DTSTART:20161106T060000
END:STANDARD
BEGIN:DAYLIGHT
TZOFFSETFROM:-0500
TZOFFSETTO:-0400
TZNAME:EDT
DTSTART:20170312T070000
END:DAYLIGHT
BEGIN:STANDARD
TZOFFSETFROM:-0400
TZOFFSETTO:-0500
TZNAME:EST
DTSTART:20171105T060000
END:STANDARD
BEGIN:DAYLIGHT
TZOFFSETFROM:-0500
TZOFFSETTO:-0400
TZNAME:EDT
DTSTART:20180311T070000
END:DAYLIGHT
BEGIN:STANDARD
TZOFFSETFROM:-0400
TZOFFSETTO:-0500
TZNAME:EST
DTSTART:20181104T060000
END:STANDARD
END:VTIMEZONE
BEGIN:VEVENT
DTSTART;TZID=America/New_York:20170328T183000
DTEND;TZID=America/New_York:20170328T213000
DTSTAMP:20260425T164301
CREATED:20170313T160849Z
LAST-MODIFIED:20170313T160943Z
UID:6848-1490725800-1490736600@www.bgsqd.com
SUMMARY:Union Square Slam presents George Abraham's Book Release Party
DESCRIPTION:  \nWe are so thrilled to celebrate George Abraham‘s release of their first book\, al youm! Please join us for a free writing workshop\, a lively open mic\, and George! \n6:30pm Writing Workshop w/ IS Jones\n7:30pm Sign-ups and Socialize\n8:00pm Open Mic \nAll Ages // Wheelchair Accessible\nSuggested Donation: $5-$10 \nPraise for al youm: \n“George Abraham is the poetic love child of Whitman and Darwish\, an exile living in the borderlands of his own Palestinian body. Through these poems–daringly experimental\, explosively confession–he rebuilds himself out of his own erasure. In his words\, ‘your body isn’t a temple–/ your body is the heaven the temples bow to.'” \n– Phil Metres\, author of Sand Opera\, winner of the Arab American Book Award \n“George Abraham’s al youm engages my brain and my heart in ways both relentless and tender. These poems do such exciting things with form—they are simultaneously ancient and futuristic\, considering old hurts and old histories while constantly reimagining what is possible in terms of what a poem can do—visually\, syntactically\, emotionally— on the page. However\, their technical skill comes in no way at the expense of their pulsing\, living heart—these poems hurt\, and bloom\, and I will never\, ever stop thinking about them. ” \n– Safia Elhillo\, author of The January Children \n“George Abraham’s poems are both guide and gift. Here is writing through the body in space and time; through ancestral memory and trauma; here is breath\, soul\, life — in America; in Palestine. Abraham’s poems arrive as ingenious and necessary solutions to equations we don’t yet know we need. This book is how we heal.” \n– Marwa Helal\, author of Invasive Species (forthcoming with Nightboat Books)\n \nAbout the Author: \nGeorge Abraham is a Palestinian-American poet attending Swarthmore College. They competed in the College Union Poetry Slam Invitational (placing 2nd out of 68 international teams)\, the National Poetry Slam\, and the Individual World Poetry Slam. They are a Pushcart nominee\, a 2-time recipient of the Favianna Rodriguez Award for Artistic Activism\, and a recipient of the Ghassan Kanafani Palestinian Literature Scholarship. They are the author of al youm: for yesterday & her inherited traumas – a winner of the Atlas Review’s 2016 chapbook contest. Their poetry has appeared or is forthcoming in Diode\, Kweli\, the Margins\, Thrush\, Apogee\, and Sukoon\, as well as the Ghassan Kanafani Anthology of Palestinian Literature. They hope to continue bringing awareness to Palestinian human rights and socio-economic struggles through art.\nMore work and contact info can be found at his artist website: https://gabrahampoet.wixsite.com/gabrahampoet \n  \n \n 
URL:https://www.bgsqd.com/event/union-square-slam-presents-george-abrahams-book-release-party/
LOCATION:NY
ATTACH;FMTTYPE=image/jpeg:https://www.bgsqd.com/wp-content/uploads/2017/03/USS-Abraham.jpg
END:VEVENT
END:VCALENDAR