BEGIN:VCALENDAR
VERSION:2.0
PRODID:-//BGSQD - ECPv6.15.20//NONSGML v1.0//EN
CALSCALE:GREGORIAN
METHOD:PUBLISH
X-WR-CALNAME:BGSQD
X-ORIGINAL-URL:https://www.bgsqd.com
X-WR-CALDESC:Events for BGSQD
REFRESH-INTERVAL;VALUE=DURATION:PT1H
X-Robots-Tag:noindex
X-PUBLISHED-TTL:PT1H
BEGIN:VTIMEZONE
TZID:America/New_York
BEGIN:DAYLIGHT
TZOFFSETFROM:-0500
TZOFFSETTO:-0400
TZNAME:EDT
DTSTART:20160313T070000
END:DAYLIGHT
BEGIN:STANDARD
TZOFFSETFROM:-0400
TZOFFSETTO:-0500
TZNAME:EST
DTSTART:20161106T060000
END:STANDARD
BEGIN:DAYLIGHT
TZOFFSETFROM:-0500
TZOFFSETTO:-0400
TZNAME:EDT
DTSTART:20170312T070000
END:DAYLIGHT
BEGIN:STANDARD
TZOFFSETFROM:-0400
TZOFFSETTO:-0500
TZNAME:EST
DTSTART:20171105T060000
END:STANDARD
BEGIN:DAYLIGHT
TZOFFSETFROM:-0500
TZOFFSETTO:-0400
TZNAME:EDT
DTSTART:20180311T070000
END:DAYLIGHT
BEGIN:STANDARD
TZOFFSETFROM:-0400
TZOFFSETTO:-0500
TZNAME:EST
DTSTART:20181104T060000
END:STANDARD
END:VTIMEZONE
BEGIN:VEVENT
DTSTART;TZID=America/New_York:20170325T193000
DTEND;TZID=America/New_York:20170325T210000
DTSTAMP:20260425T110810
CREATED:20170211T210206Z
LAST-MODIFIED:20170306T174712Z
UID:6779-1490470200-1490475600@www.bgsqd.com
SUMMARY:READ ALOUD TO CAUSE TROUBLE: Impropria Persona Release Party
DESCRIPTION:  \nREAD ALOUD TO CAUSE TROUBLE brings together a gaggle of wobbly-kneed armchair revolutionaries who don’t vote to celebrate the release of IMPROPRIA PERSONA\, a collaborative chapbook by Kay Gabriel and David W. Pritchard (Damask Press\, 2017) with an evening of poems and provocations.\n \nREADERS: \n\nKAY GABRIEL is the author of Elegy Department Spring (BOAAT Press\, forthcoming) and\, with David W. Pritchard\, Impropria Persona. She is aufgehoben or bust\, baby. \n  \nDAVID W. PRITCHARD is a poet and a scholar\, though he is not a poet-scholar. He is the author\, with Kay Gabriel\, of Impropria Persona. He is currently working on a super-poem entitled REVOLUTION OR DECADENCE for which he has been paid 50 cents by an anonymous donor. In this way he is the last living residue of literary patronage. \n  \nA.B. ROBINSON has been called a Surrealist in both condemnation and praise. She is not a Surrealist. \n  \nCAM SCOTT is a poet\, critic\, and practicing non-musician from Winnipeg\, Canada\, Treaty One territory. He performs under the name Cold-catcher and as always\, the motivating question is For whom? \n  \nZACHARY LAMALFA was recently described as a poet whom one could easily imagine enjoying a career as a civil engineer or architect\, which made everyone else in the room laugh very hard. He is one thing about the city. \n  \n  \n  \n 
URL:https://www.bgsqd.com/event/impropria-persona-release-party/
LOCATION:NY
ATTACH;FMTTYPE=image/jpeg:https://www.bgsqd.com/wp-content/uploads/2017/02/Monotype2-300dpiChapbook-Damask.jpg
END:VEVENT
END:VCALENDAR