BEGIN:VCALENDAR
VERSION:2.0
PRODID:-//BGSQD - ECPv6.15.20//NONSGML v1.0//EN
CALSCALE:GREGORIAN
METHOD:PUBLISH
X-ORIGINAL-URL:https://www.bgsqd.com
X-WR-CALDESC:Events for BGSQD
REFRESH-INTERVAL;VALUE=DURATION:PT1H
X-Robots-Tag:noindex
X-PUBLISHED-TTL:PT1H
BEGIN:VTIMEZONE
TZID:America/New_York
BEGIN:DAYLIGHT
TZOFFSETFROM:-0500
TZOFFSETTO:-0400
TZNAME:EDT
DTSTART:20160313T070000
END:DAYLIGHT
BEGIN:STANDARD
TZOFFSETFROM:-0400
TZOFFSETTO:-0500
TZNAME:EST
DTSTART:20161106T060000
END:STANDARD
BEGIN:DAYLIGHT
TZOFFSETFROM:-0500
TZOFFSETTO:-0400
TZNAME:EDT
DTSTART:20170312T070000
END:DAYLIGHT
BEGIN:STANDARD
TZOFFSETFROM:-0400
TZOFFSETTO:-0500
TZNAME:EST
DTSTART:20171105T060000
END:STANDARD
BEGIN:DAYLIGHT
TZOFFSETFROM:-0500
TZOFFSETTO:-0400
TZNAME:EDT
DTSTART:20180311T070000
END:DAYLIGHT
BEGIN:STANDARD
TZOFFSETFROM:-0400
TZOFFSETTO:-0500
TZNAME:EST
DTSTART:20181104T060000
END:STANDARD
END:VTIMEZONE
BEGIN:VEVENT
DTSTART;VALUE=DATE:20170314
DTEND;VALUE=DATE:20170320
DTSTAMP:20260425T105134
CREATED:20170303T163712Z
LAST-MODIFIED:20170303T164703Z
UID:6812-1489449600-1489967999@www.bgsqd.com
SUMMARY:Join the Bureau at the New York Live Arts Live Ideas Festival: Mx'd Messages
DESCRIPTION:  \nThe Bureau will have a pop-up shop at the Live Ideas Festival\, Mx’d Messages\, in the lobby of New York Live Arts\, March 14—19. \nMX’D MESSAGES\nCurated by Mx Justin Vivian Bond \nTrans-genre artist Mx Justin Vivian Bond curates a series examining the idea of a world without binaries–across gender\, politics\, theology\, sensory perception and race. \nRichard Move and MoveOpolis!\, kick off the festival with the world premiere of XXYY and a special performance celebrating the 20th anniversary of Martha@… \nMx’d Messages continues March 14-19 with a keynote conversation\, lunch time reading series\, an afternoon film program curated by Dirty Looks\, Happy Hour panel discussions on trans-theology\, afrofuturism\, activism and social justice\, caregiving and choral workshops\, Prime Time genre bending performance events including the TEAM’s RoosevElvis (Re_MX’D)\, Mx Bond’s House of Whimsy and more\, and ends with a queer punk rock dance party. \nLive Ideas is an annual humanities festival of arts and ideas\, exploring the ideas\, controversies and thinking informing a different bodily-oriented theme each time out. Past festivals have included The Worlds of Oliver Sacks\, James Baldwin\, This Time!\, SKY-Force and Wisdom in America Today\, curated by Laurie Anderson\, andMENA/Future-Cultural Transformations in the Middle East North Africa Region. \n  \nVIEW THE FESTIVAL BROCHURE FOR FULL LISTING OF EVENTS\n  \n \n219 West 19th Street\, between 7th and 8th Avenues \nNY\, NY 10011 \n  \n  \n  \n  \n 
URL:https://www.bgsqd.com/event/join-the-bureau-at-the-new-york-live-arts-live-ideas-festival-mxd-messages/
LOCATION:NY
ATTACH;FMTTYPE=image/jpeg:https://www.bgsqd.com/wp-content/uploads/2017/02/1024w_x1024h_Justin_Vivian_Bond_Photo_By_Michael_Hart_2013_008-e1484245131391.jpg
END:VEVENT
END:VCALENDAR