BEGIN:VCALENDAR
VERSION:2.0
PRODID:-//BGSQD - ECPv6.15.20//NONSGML v1.0//EN
CALSCALE:GREGORIAN
METHOD:PUBLISH
X-ORIGINAL-URL:https://www.bgsqd.com
X-WR-CALDESC:Events for BGSQD
REFRESH-INTERVAL;VALUE=DURATION:PT1H
X-Robots-Tag:noindex
X-PUBLISHED-TTL:PT1H
BEGIN:VTIMEZONE
TZID:America/New_York
BEGIN:DAYLIGHT
TZOFFSETFROM:-0500
TZOFFSETTO:-0400
TZNAME:EDT
DTSTART:20160313T070000
END:DAYLIGHT
BEGIN:STANDARD
TZOFFSETFROM:-0400
TZOFFSETTO:-0500
TZNAME:EST
DTSTART:20161106T060000
END:STANDARD
BEGIN:DAYLIGHT
TZOFFSETFROM:-0500
TZOFFSETTO:-0400
TZNAME:EDT
DTSTART:20170312T070000
END:DAYLIGHT
BEGIN:STANDARD
TZOFFSETFROM:-0400
TZOFFSETTO:-0500
TZNAME:EST
DTSTART:20171105T060000
END:STANDARD
BEGIN:DAYLIGHT
TZOFFSETFROM:-0500
TZOFFSETTO:-0400
TZNAME:EDT
DTSTART:20180311T070000
END:DAYLIGHT
BEGIN:STANDARD
TZOFFSETFROM:-0400
TZOFFSETTO:-0500
TZNAME:EST
DTSTART:20181104T060000
END:STANDARD
END:VTIMEZONE
BEGIN:VEVENT
DTSTART;TZID=America/New_York:20170309T190000
DTEND;TZID=America/New_York:20170309T210000
DTSTAMP:20260425T105130
CREATED:20170109T194316Z
LAST-MODIFIED:20170109T204628Z
UID:6730-1489086000-1489093200@www.bgsqd.com
SUMMARY:Elska Magazine issue (10) Mumbai (India) - Launch Party
DESCRIPTION:  \nCome celebrate the launch of the tenth edition of Elska Magazine\, this time dedicated to Mumbai\, India. Noticing how underrepresented South Asian men are in gay media\, we were inspired to showcase the local boys and local stories from India’s biggest city. The founder of Elska Magazine\, Liam Campbell\, will be there to say a few words about Elska and talk about the experience of meeting and shooting men In India and around the world. Come hang out with us\, ask questions\, have a chat\, maybe meet some boys… and pick up a copy of the latest issue. Free “Elska Mumbai” posters will be available to everyone who buys a copy from the Bureau on the night. \nFeaturing: \nLiam Campbell – founder\, editor\, and chief photographer of Elska Magazine \nMark Blakey – assistant for the making of issue (07) Cardiff (Wales) and issue (08) Yokohama (Japan) \n  \n  \n  \n  \n 
URL:https://www.bgsqd.com/event/elska-magazine-issue-10-mumbai-india-launch-party/
LOCATION:NY
ATTACH;FMTTYPE=image/jpeg:https://www.bgsqd.com/wp-content/uploads/2017/01/elska10mumbai_launchpartybgsqd.jpg
END:VEVENT
END:VCALENDAR