BEGIN:VCALENDAR
VERSION:2.0
PRODID:-//BGSQD - ECPv6.15.20//NONSGML v1.0//EN
CALSCALE:GREGORIAN
METHOD:PUBLISH
X-ORIGINAL-URL:https://www.bgsqd.com
X-WR-CALDESC:Events for BGSQD
REFRESH-INTERVAL;VALUE=DURATION:PT1H
X-Robots-Tag:noindex
X-PUBLISHED-TTL:PT1H
BEGIN:VTIMEZONE
TZID:America/New_York
BEGIN:DAYLIGHT
TZOFFSETFROM:-0500
TZOFFSETTO:-0400
TZNAME:EDT
DTSTART:20160313T070000
END:DAYLIGHT
BEGIN:STANDARD
TZOFFSETFROM:-0400
TZOFFSETTO:-0500
TZNAME:EST
DTSTART:20161106T060000
END:STANDARD
BEGIN:DAYLIGHT
TZOFFSETFROM:-0500
TZOFFSETTO:-0400
TZNAME:EDT
DTSTART:20170312T070000
END:DAYLIGHT
BEGIN:STANDARD
TZOFFSETFROM:-0400
TZOFFSETTO:-0500
TZNAME:EST
DTSTART:20171105T060000
END:STANDARD
BEGIN:DAYLIGHT
TZOFFSETFROM:-0500
TZOFFSETTO:-0400
TZNAME:EDT
DTSTART:20180311T070000
END:DAYLIGHT
BEGIN:STANDARD
TZOFFSETFROM:-0400
TZOFFSETTO:-0500
TZNAME:EST
DTSTART:20181104T060000
END:STANDARD
END:VTIMEZONE
BEGIN:VEVENT
DTSTART;TZID=America/New_York:20170305T170000
DTEND;TZID=America/New_York:20170305T190000
DTSTAMP:20260425T204733
CREATED:20170120T201836Z
LAST-MODIFIED:20170120T201836Z
UID:6743-1488733200-1488740400@www.bgsqd.com
SUMMARY:Feminists Read Zami: A New Spelling of My Name\, by Audre Lorde
DESCRIPTION:  \nJoin us to discuss Audre Lorde‘s autobiography/biomythography\, ZAMI : A NEW SPELLING OF MY NAME (Freedom\, CA: The Crossing Press\, 1982). In the words of the feminist publication off our backs’ review (quoted on the cover of the book)\, “ZAMI is a fast-moving chronicle. From the author’s vivid childhood memories in Harlem to her coming of age in the late 50’s\, the nature of Audre Lorde’s work is cyclical. It especially relates the linkage of women who have shaped her. … Lorde brings into play her craft of lush description and characterization. It keeps unfolding page after page.” \n  \nPlease support the Bureau and purchase your copy of ZAMI: A NEW SPELLING OF MY NAME at the Bureau! Thanks! \n  \n  \n  \n 
URL:https://www.bgsqd.com/event/zami/
LOCATION:NY
ATTACH;FMTTYPE=image/jpeg:https://www.bgsqd.com/wp-content/uploads/2017/01/Zami.jpg
END:VEVENT
END:VCALENDAR