BEGIN:VCALENDAR
VERSION:2.0
PRODID:-//BGSQD - ECPv6.15.20//NONSGML v1.0//EN
CALSCALE:GREGORIAN
METHOD:PUBLISH
X-ORIGINAL-URL:https://www.bgsqd.com
X-WR-CALDESC:Events for BGSQD
REFRESH-INTERVAL;VALUE=DURATION:PT1H
X-Robots-Tag:noindex
X-PUBLISHED-TTL:PT1H
BEGIN:VTIMEZONE
TZID:America/New_York
BEGIN:DAYLIGHT
TZOFFSETFROM:-0500
TZOFFSETTO:-0400
TZNAME:EDT
DTSTART:20150308T070000
END:DAYLIGHT
BEGIN:STANDARD
TZOFFSETFROM:-0400
TZOFFSETTO:-0500
TZNAME:EST
DTSTART:20151101T060000
END:STANDARD
BEGIN:DAYLIGHT
TZOFFSETFROM:-0500
TZOFFSETTO:-0400
TZNAME:EDT
DTSTART:20160313T070000
END:DAYLIGHT
BEGIN:STANDARD
TZOFFSETFROM:-0400
TZOFFSETTO:-0500
TZNAME:EST
DTSTART:20161106T060000
END:STANDARD
BEGIN:DAYLIGHT
TZOFFSETFROM:-0500
TZOFFSETTO:-0400
TZNAME:EDT
DTSTART:20170312T070000
END:DAYLIGHT
BEGIN:STANDARD
TZOFFSETFROM:-0400
TZOFFSETTO:-0500
TZNAME:EST
DTSTART:20171105T060000
END:STANDARD
END:VTIMEZONE
BEGIN:VEVENT
DTSTART;TZID=America/New_York:20161217T190000
DTEND;TZID=America/New_York:20161217T203000
DTSTAMP:20260424T203606
CREATED:20161127T181035Z
LAST-MODIFIED:20161130T152038Z
UID:6669-1482001200-1482006600@www.bgsqd.com
SUMMARY:Like A Virgin: Queer Nuns in the Renaissance
DESCRIPTION:  \nWhat was a lesbian who wanted to enjoy the company of women to do in the 1600s? Join a convent!\n  \nFrom cock-teasing nuns that toy with the emotions of the convent’s male visitors to cross-dressing nuns who become swash-buckling Spanish conquistadors while seducing women in South America\, the stories Dr. Horacio Sierra shares in this presentation will change the way you think about nuns\, feminism\, and lesbianism in the seventeenth century.\n  \nThis presentation uses movie clips\, written excerpts\, and humorous GIFs to demonstrate how the Catholic Church provided a safe haven for same-sex loving women in Renaissance England\, Spain\, and Mexico. Come learn how the convent was queered by real-life women such as Catalina de Erauso and Sor Juana Inés de la Cruz as well the literary creations of William Shakespeare and Margaret Cavendish.\n  \n \nDr. Horacio Sierra is an Assistant Professor of English at Bowie State University. His book Sanctified Subversives: Nuns in Early Modern English and Spanish Literature details the ways in which authors from both Protestant and Catholic nation-states used nuns and convents to explore ideas about womanhood\, feminism\, and queer sexuality. \n  \n  \n 
URL:https://www.bgsqd.com/event/like-a-virgin-queer-nuns-in-the-renaissance/
LOCATION:NY
ATTACH;FMTTYPE=image/jpeg:https://www.bgsqd.com/wp-content/uploads/2016/11/Like-a-Virgin.jpg
END:VEVENT
END:VCALENDAR