BEGIN:VCALENDAR
VERSION:2.0
PRODID:-//BGSQD - ECPv6.15.20//NONSGML v1.0//EN
CALSCALE:GREGORIAN
METHOD:PUBLISH
X-WR-CALNAME:BGSQD
X-ORIGINAL-URL:https://www.bgsqd.com
X-WR-CALDESC:Events for BGSQD
REFRESH-INTERVAL;VALUE=DURATION:PT1H
X-Robots-Tag:noindex
X-PUBLISHED-TTL:PT1H
BEGIN:VTIMEZONE
TZID:America/New_York
BEGIN:DAYLIGHT
TZOFFSETFROM:-0500
TZOFFSETTO:-0400
TZNAME:EDT
DTSTART:20150308T070000
END:DAYLIGHT
BEGIN:STANDARD
TZOFFSETFROM:-0400
TZOFFSETTO:-0500
TZNAME:EST
DTSTART:20151101T060000
END:STANDARD
BEGIN:DAYLIGHT
TZOFFSETFROM:-0500
TZOFFSETTO:-0400
TZNAME:EDT
DTSTART:20160313T070000
END:DAYLIGHT
BEGIN:STANDARD
TZOFFSETFROM:-0400
TZOFFSETTO:-0500
TZNAME:EST
DTSTART:20161106T060000
END:STANDARD
BEGIN:DAYLIGHT
TZOFFSETFROM:-0500
TZOFFSETTO:-0400
TZNAME:EDT
DTSTART:20170312T070000
END:DAYLIGHT
BEGIN:STANDARD
TZOFFSETFROM:-0400
TZOFFSETTO:-0500
TZNAME:EST
DTSTART:20171105T060000
END:STANDARD
END:VTIMEZONE
BEGIN:VEVENT
DTSTART;TZID=America/New_York:20161216T190000
DTEND;TZID=America/New_York:20161216T210000
DTSTAMP:20260424T221034
CREATED:20161204T173724Z
LAST-MODIFIED:20161213T200608Z
UID:6681-1481914800-1481922000@www.bgsqd.com
SUMMARY:Vaczine Magazine #3 Release Event / Signing
DESCRIPTION:Official launch of the annual Queer art & literary journal VACZINE Magazine \n  \nBroken Werd by VACZINE #3 guest editors Max Steele\, Mike Albo\, Pamela Sneed & Walt Cessna. There will be editions #1 – #100 / 500 of Vaczine Magazine #3 for sale. $20 each. The first 50 purchases come with a complimentary exclusive double sided signed poster by Gio Black Peter. \nEvent image: collage by Slava Mogutin for VACZINE \n  \n  \n 
URL:https://www.bgsqd.com/event/vaczine-3-release/
LOCATION:NY
ATTACH;FMTTYPE=image/jpeg:https://www.bgsqd.com/wp-content/uploads/2016/12/slava-mogutin.jpg
END:VEVENT
END:VCALENDAR