BEGIN:VCALENDAR
VERSION:2.0
PRODID:-//BGSQD - ECPv6.15.20//NONSGML v1.0//EN
CALSCALE:GREGORIAN
METHOD:PUBLISH
X-WR-CALNAME:BGSQD
X-ORIGINAL-URL:https://www.bgsqd.com
X-WR-CALDESC:Events for BGSQD
REFRESH-INTERVAL;VALUE=DURATION:PT1H
X-Robots-Tag:noindex
X-PUBLISHED-TTL:PT1H
BEGIN:VTIMEZONE
TZID:America/New_York
BEGIN:DAYLIGHT
TZOFFSETFROM:-0500
TZOFFSETTO:-0400
TZNAME:EDT
DTSTART:20150308T070000
END:DAYLIGHT
BEGIN:STANDARD
TZOFFSETFROM:-0400
TZOFFSETTO:-0500
TZNAME:EST
DTSTART:20151101T060000
END:STANDARD
BEGIN:DAYLIGHT
TZOFFSETFROM:-0500
TZOFFSETTO:-0400
TZNAME:EDT
DTSTART:20160313T070000
END:DAYLIGHT
BEGIN:STANDARD
TZOFFSETFROM:-0400
TZOFFSETTO:-0500
TZNAME:EST
DTSTART:20161106T060000
END:STANDARD
BEGIN:DAYLIGHT
TZOFFSETFROM:-0500
TZOFFSETTO:-0400
TZNAME:EDT
DTSTART:20170312T070000
END:DAYLIGHT
BEGIN:STANDARD
TZOFFSETFROM:-0400
TZOFFSETTO:-0500
TZNAME:EST
DTSTART:20171105T060000
END:STANDARD
END:VTIMEZONE
BEGIN:VEVENT
DTSTART;TZID=America/New_York:20161210T190000
DTEND;TZID=America/New_York:20161210T210000
DTSTAMP:20260424T221054
CREATED:20161121T183442Z
LAST-MODIFIED:20161121T184203Z
UID:6662-1481396400-1481403600@www.bgsqd.com
SUMMARY:Mystery & Romance with Ann Aptaker\, Jean Copeland & Maggie Cummings
DESCRIPTION:  \nGive a gift of crime and passion this season! And enjoy a zesty night with writers Ann Aptaker\, Jean Copeland\, and Maggie Cummings at a reading and book signing. Fill her stocking with Mystery & Romance from BGSQD!\n \n \n\nAnn Aptaker: Ann Aptaker’s debut novel\, “Criminal Gold” was a Goldie Award finalist last year. Her second book\, “Tarnished Gold\,” was this year’s Lammy Award and Goldie Award winner. Both books have earned excellent reviews from Curve Magazine\, Crimepieces\, Rainbow Reads\, and other print and internet venues. Her Cantor Gold crime series celebrates her favorite themes: dangerous women\, crime and mystery fiction\, and New York City history. The third book in the series\, “Genuine Gold\,” releases in January. \n \n \n\nJean Copeland: Jean Copeland is an English teacher and author of lesbian fiction. Her debut novel\, “The Revelation of Beatrice Darby\,” won the 2016 Alice B Lavender Award and the Golden Crown Literary Society “Goldie” for debut author. She is also the author of “The Second Wave\,” available now\, and “Twice Around” coming in 2017. She resides in Connecticut with her cat\, Charlotte.\n \n \n\nMaggie Cummings: Maggie Cummings lives in Staten Island with her wife and their two children. She has degrees in English\, theatre and criminal justice. She works in law enforcement in the NYC metropolitan area. She is the author of Totally Worth It and Serious Potential\, the first two novels in the Bay West Social series. She is currently juggling work on the series finale as well as a standalone novel to follow.\n  \n  \n  \n 
URL:https://www.bgsqd.com/event/mystery-and-romance/
LOCATION:NY
ATTACH;FMTTYPE=image/jpeg:https://www.bgsqd.com/wp-content/uploads/2016/11/Mystery-and-Romance.jpeg
END:VEVENT
END:VCALENDAR