BEGIN:VCALENDAR
VERSION:2.0
PRODID:-//BGSQD - ECPv6.15.20//NONSGML v1.0//EN
CALSCALE:GREGORIAN
METHOD:PUBLISH
X-WR-CALNAME:BGSQD
X-ORIGINAL-URL:https://www.bgsqd.com
X-WR-CALDESC:Events for BGSQD
REFRESH-INTERVAL;VALUE=DURATION:PT1H
X-Robots-Tag:noindex
X-PUBLISHED-TTL:PT1H
BEGIN:VTIMEZONE
TZID:America/New_York
BEGIN:DAYLIGHT
TZOFFSETFROM:-0500
TZOFFSETTO:-0400
TZNAME:EDT
DTSTART:20150308T070000
END:DAYLIGHT
BEGIN:STANDARD
TZOFFSETFROM:-0400
TZOFFSETTO:-0500
TZNAME:EST
DTSTART:20151101T060000
END:STANDARD
BEGIN:DAYLIGHT
TZOFFSETFROM:-0500
TZOFFSETTO:-0400
TZNAME:EDT
DTSTART:20160313T070000
END:DAYLIGHT
BEGIN:STANDARD
TZOFFSETFROM:-0400
TZOFFSETTO:-0500
TZNAME:EST
DTSTART:20161106T060000
END:STANDARD
BEGIN:DAYLIGHT
TZOFFSETFROM:-0500
TZOFFSETTO:-0400
TZNAME:EDT
DTSTART:20170312T070000
END:DAYLIGHT
BEGIN:STANDARD
TZOFFSETFROM:-0400
TZOFFSETTO:-0500
TZNAME:EST
DTSTART:20171105T060000
END:STANDARD
END:VTIMEZONE
BEGIN:VEVENT
DTSTART;TZID=America/New_York:20161122T190000
DTEND;TZID=America/New_York:20161122T213000
DTSTAMP:20260422T033541
CREATED:20161121T171400Z
LAST-MODIFIED:20161121T171424Z
UID:6655-1479841200-1479850200@www.bgsqd.com
SUMMARY:Union Square Slam presents Venessa Marco and WOWPS Qualifier #3
DESCRIPTION:  \nDid you know? Both our USS rep Gabrielle Smith and USS Organizer Extraordinaire Taylor Steele excelled to Finals Stage at last year’s WOWPS competition? Come on out for your last chance to qualify for USS’s WOWPS Finals Dec 14th!! And while you’re at it\, come get your heart salvaged by none other than the dynamite Venessa Marco!! \n6pm: Free Writing Workshop\n7pm: Sign-Ups and Socialize\n7:30pm: Slam\, First Round (2 min round)\n8:15pm: Featured Poet\n9pm: Slam\, Second and Third Round (1 min and 4 min rounds) \n$5 // All Ages // Wheelchair Accessible \nAbout our Feature: \nVenessa Marco is an Afro-descendant poet\, writer by way of Cuba and Puerto Rico. Marco currently resides in Harlem\, New York. She was a member of the 2012 Da Poetry Lounge in Hollywood\, California slam team and a member of the 2013 Nuyorican Poets Cafe\, which placed 3rd in the nation. In 2014 Marco competed in The Women of The World poetry festival and placed 6th in the nation. She is a recipient of the Cora Craig Author Award for young women writers allocated by Penmanship Books. \nAbout our Slam: \nWOWPS is: \na) an acronym for Women of the World World Poetry Slam\nb) one of three national poetry slam events put on annually by Poetry Slam\, Inc.\nc) held in Dallas\, TX from March 15-18th\, 2017\nUnion Square Slam WOWPS Qualifier rules: \nQualified competitors are poets who are female assigned or identified individuals who are PSi members and are 18+ or 21+ years of age\, depending on the Host City. This includes gender non-conforming individuals. \n8 poets\, 3 rounds. Cumulative Scores. \nFirst Round: 2 min (all)\nSecond Round: 1 min (all)\nThird Round: 4 min (top 5) \nCumulative score wins the slam. Top two winners advance to Finals. \n  \n 
URL:https://www.bgsqd.com/event/union-square-slam-presents-veness-marco/
LOCATION:NY
ATTACH;FMTTYPE=image/jpeg:https://www.bgsqd.com/wp-content/uploads/2016/11/USS-11-22.jpg
END:VEVENT
END:VCALENDAR