BEGIN:VCALENDAR
VERSION:2.0
PRODID:-//BGSQD - ECPv6.15.20//NONSGML v1.0//EN
CALSCALE:GREGORIAN
METHOD:PUBLISH
X-WR-CALNAME:BGSQD
X-ORIGINAL-URL:https://www.bgsqd.com
X-WR-CALDESC:Events for BGSQD
REFRESH-INTERVAL;VALUE=DURATION:PT1H
X-Robots-Tag:noindex
X-PUBLISHED-TTL:PT1H
BEGIN:VTIMEZONE
TZID:America/New_York
BEGIN:DAYLIGHT
TZOFFSETFROM:-0500
TZOFFSETTO:-0400
TZNAME:EDT
DTSTART:20150308T070000
END:DAYLIGHT
BEGIN:STANDARD
TZOFFSETFROM:-0400
TZOFFSETTO:-0500
TZNAME:EST
DTSTART:20151101T060000
END:STANDARD
BEGIN:DAYLIGHT
TZOFFSETFROM:-0500
TZOFFSETTO:-0400
TZNAME:EDT
DTSTART:20160313T070000
END:DAYLIGHT
BEGIN:STANDARD
TZOFFSETFROM:-0400
TZOFFSETTO:-0500
TZNAME:EST
DTSTART:20161106T060000
END:STANDARD
BEGIN:DAYLIGHT
TZOFFSETFROM:-0500
TZOFFSETTO:-0400
TZNAME:EDT
DTSTART:20170312T070000
END:DAYLIGHT
BEGIN:STANDARD
TZOFFSETFROM:-0400
TZOFFSETTO:-0500
TZNAME:EST
DTSTART:20171105T060000
END:STANDARD
END:VTIMEZONE
BEGIN:VEVENT
DTSTART;TZID=America/New_York:20161120T190000
DTEND;TZID=America/New_York:20161120T203000
DTSTAMP:20260422T024517
CREATED:20161114T191835Z
LAST-MODIFIED:20161115T210759Z
UID:6641-1479668400-1479673800@www.bgsqd.com
SUMMARY:Imani Cezanne and Emi Mahmoud Present Matte Fearless: A Women of the World Poetry Slam Champions Showcase
DESCRIPTION:  \nAfter an unprecedented decision to share the 2016 Women of the World Poetry Slam Championship\, Emi Mahmoud and Imani Cezanne have reunited to put on a one of a kind show! Come one\, come all to the for an unforgettable night of love\, laughs\, poems and womanhood. \n  \n  \n  \n  \n 
URL:https://www.bgsqd.com/event/imani-cezanne-and-emi-mahmoud/
LOCATION:NY
ATTACH;FMTTYPE=image/jpeg:https://www.bgsqd.com/wp-content/uploads/2016/11/Matte-Fearless-copy.jpg
END:VEVENT
END:VCALENDAR