BEGIN:VCALENDAR
VERSION:2.0
PRODID:-//BGSQD - ECPv6.15.20//NONSGML v1.0//EN
CALSCALE:GREGORIAN
METHOD:PUBLISH
X-ORIGINAL-URL:https://www.bgsqd.com
X-WR-CALDESC:Events for BGSQD
REFRESH-INTERVAL;VALUE=DURATION:PT1H
X-Robots-Tag:noindex
X-PUBLISHED-TTL:PT1H
BEGIN:VTIMEZONE
TZID:America/New_York
BEGIN:DAYLIGHT
TZOFFSETFROM:-0500
TZOFFSETTO:-0400
TZNAME:EDT
DTSTART:20150308T070000
END:DAYLIGHT
BEGIN:STANDARD
TZOFFSETFROM:-0400
TZOFFSETTO:-0500
TZNAME:EST
DTSTART:20151101T060000
END:STANDARD
BEGIN:DAYLIGHT
TZOFFSETFROM:-0500
TZOFFSETTO:-0400
TZNAME:EDT
DTSTART:20160313T070000
END:DAYLIGHT
BEGIN:STANDARD
TZOFFSETFROM:-0400
TZOFFSETTO:-0500
TZNAME:EST
DTSTART:20161106T060000
END:STANDARD
BEGIN:DAYLIGHT
TZOFFSETFROM:-0500
TZOFFSETTO:-0400
TZNAME:EDT
DTSTART:20170312T070000
END:DAYLIGHT
BEGIN:STANDARD
TZOFFSETFROM:-0400
TZOFFSETTO:-0500
TZNAME:EST
DTSTART:20171105T060000
END:STANDARD
END:VTIMEZONE
BEGIN:VEVENT
DTSTART;TZID=America/New_York:20161117T190000
DTEND;TZID=America/New_York:20161117T213000
DTSTAMP:20260422T035415
CREATED:20161109T222726Z
LAST-MODIFIED:20161109T222833Z
UID:6630-1479409200-1479418200@www.bgsqd.com
SUMMARY:Switch n' Play
DESCRIPTION:  \nSwitch n’ Play offers an evening of queer performance from members K.James\, Nyx Nocturne\, (wo chan) Pearl Harbor\, and Vigor Mortis. Following the performances\, the performers will hold a Q&A panel discussion of drag\, gender\, community\, and the politics of embodiment. \nSwitch n’ Play is a Brooklyn drag collective\, established in 2006. Queer in every sense of the word\, Switch n’ Play spans the gender spectrum in life and onstage. Twice nominated for the Brooklyn Nightlife Awards in the Best Drag Performance Show and Best Burlesque Show categories\, SnP and its members have also been featured in the Huffington Post\, Posture Magazine\, Vice Broadly\, and Velour Magazine. They produces shows at Branded Saloon in Prospect Heights Brooklyn every 2nd and 4th Saturdays. \n  \n  \n  \n 
URL:https://www.bgsqd.com/event/switch-n-play/
LOCATION:NY
ATTACH;FMTTYPE=image/jpeg:https://www.bgsqd.com/wp-content/uploads/2016/11/Switch-and-Play-500.jpg
END:VEVENT
END:VCALENDAR