BEGIN:VCALENDAR
VERSION:2.0
PRODID:-//BGSQD - ECPv6.15.20//NONSGML v1.0//EN
CALSCALE:GREGORIAN
METHOD:PUBLISH
X-WR-CALNAME:BGSQD
X-ORIGINAL-URL:https://www.bgsqd.com
X-WR-CALDESC:Events for BGSQD
REFRESH-INTERVAL;VALUE=DURATION:PT1H
X-Robots-Tag:noindex
X-PUBLISHED-TTL:PT1H
BEGIN:VTIMEZONE
TZID:America/New_York
BEGIN:DAYLIGHT
TZOFFSETFROM:-0500
TZOFFSETTO:-0400
TZNAME:EDT
DTSTART:20150308T070000
END:DAYLIGHT
BEGIN:STANDARD
TZOFFSETFROM:-0400
TZOFFSETTO:-0500
TZNAME:EST
DTSTART:20151101T060000
END:STANDARD
BEGIN:DAYLIGHT
TZOFFSETFROM:-0500
TZOFFSETTO:-0400
TZNAME:EDT
DTSTART:20160313T070000
END:DAYLIGHT
BEGIN:STANDARD
TZOFFSETFROM:-0400
TZOFFSETTO:-0500
TZNAME:EST
DTSTART:20161106T060000
END:STANDARD
BEGIN:DAYLIGHT
TZOFFSETFROM:-0500
TZOFFSETTO:-0400
TZNAME:EDT
DTSTART:20170312T070000
END:DAYLIGHT
BEGIN:STANDARD
TZOFFSETFROM:-0400
TZOFFSETTO:-0500
TZNAME:EST
DTSTART:20171105T060000
END:STANDARD
END:VTIMEZONE
BEGIN:VEVENT
DTSTART;TZID=America/New_York:20161112T180000
DTEND;TZID=America/New_York:20161112T200000
DTSTAMP:20260422T033541
CREATED:20161021T195531Z
LAST-MODIFIED:20161021T195531Z
UID:6592-1478973600-1478980800@www.bgsqd.com
SUMMARY:Fire Island Artist Residency Presents: Tyler Ashley\, Matthew deLeon\, and Donald C. Shorter Jr.
DESCRIPTION:  \nFire Island Artist Residency Presents:\n\nAn evening of performance with Tyler Ashley\, Matthew deLeon\, and Donald C. Shorter Jr. \n\nThe three artists\, whose work is on display in the Bureau’s current exhibition\, Coney Island Babies\, will perform original works at the Bureau of General Services—Queer Division!\n  \n  \n 
URL:https://www.bgsqd.com/event/fire-island-artist-residency-presents-tyler-ashley-matthew-deleon-and-donald-c-shorter-jr/
LOCATION:NY
ATTACH;FMTTYPE=image/jpeg:https://www.bgsqd.com/wp-content/uploads/2016/10/Coney-Island-Babies-Nov-12-event.jpg
END:VEVENT
END:VCALENDAR