BEGIN:VCALENDAR
VERSION:2.0
PRODID:-//BGSQD - ECPv6.15.20//NONSGML v1.0//EN
CALSCALE:GREGORIAN
METHOD:PUBLISH
X-WR-CALNAME:BGSQD
X-ORIGINAL-URL:https://www.bgsqd.com
X-WR-CALDESC:Events for BGSQD
REFRESH-INTERVAL;VALUE=DURATION:PT1H
X-Robots-Tag:noindex
X-PUBLISHED-TTL:PT1H
BEGIN:VTIMEZONE
TZID:America/New_York
BEGIN:DAYLIGHT
TZOFFSETFROM:-0500
TZOFFSETTO:-0400
TZNAME:EDT
DTSTART:20150308T070000
END:DAYLIGHT
BEGIN:STANDARD
TZOFFSETFROM:-0400
TZOFFSETTO:-0500
TZNAME:EST
DTSTART:20151101T060000
END:STANDARD
BEGIN:DAYLIGHT
TZOFFSETFROM:-0500
TZOFFSETTO:-0400
TZNAME:EDT
DTSTART:20160313T070000
END:DAYLIGHT
BEGIN:STANDARD
TZOFFSETFROM:-0400
TZOFFSETTO:-0500
TZNAME:EST
DTSTART:20161106T060000
END:STANDARD
BEGIN:DAYLIGHT
TZOFFSETFROM:-0500
TZOFFSETTO:-0400
TZNAME:EDT
DTSTART:20170312T070000
END:DAYLIGHT
BEGIN:STANDARD
TZOFFSETFROM:-0400
TZOFFSETTO:-0500
TZNAME:EST
DTSTART:20171105T060000
END:STANDARD
END:VTIMEZONE
BEGIN:VEVENT
DTSTART;TZID=America/New_York:20161108T190000
DTEND;TZID=America/New_York:20161108T213000
DTSTAMP:20260422T024532
CREATED:20161024T162017Z
LAST-MODIFIED:20161024T162017Z
UID:6608-1478631600-1478640600@www.bgsqd.com
SUMMARY:Union Square Slam presents an evening with Jersey City Slam
DESCRIPTION:  \nUnion Square Slam is committed to exposing all the poetry this city has to offer. We want communities to merge and form into bigger communities. For this show we are happy to have the great literary/slam organization Jersey City Slam. \nHere’s a little more about JC: \nJersey City Slam was founded in 2010 and has since become a pillar in New Jersey’s poetry community. J.C. Slam provides a platform for New Jersey’s best poets to showcase their skills and talent on a national level. It also is a way for the community to connect to Jersey City’s vibrant and thriving art community. By putting the power in the hands of the judges picked at random from the audience J.C. Slam lets the community decide who represents Jersey City at the annual National Poetry Slam\, Women of the World Poetry Slam and the Individual World Poetry Slam. Jersey City Slam is a live event that offers local performers to participate in the open mic segment and judge Slam poets performances. \nJC Poets:\nAnn Marie Manso\nChris Rodriguez\nErin Anastasia\nRashad Wright \n6;00pm: Free Workshop with I.S. Jones\n7:30pm: Sign-ups and Socialize\n8:00pm: Open Mic\n8:45pm: Jersey City Slam \nAll Ages // Wheelchair Accessible\nOpen Mic // $5 \n  \n  \n 
URL:https://www.bgsqd.com/event/union-square-slam-presents-jersey-city-slam/
LOCATION:NY
ATTACH;FMTTYPE=image/jpeg:https://www.bgsqd.com/wp-content/uploads/2016/10/Jersey-City-Slam.jpg
END:VEVENT
END:VCALENDAR