BEGIN:VCALENDAR
VERSION:2.0
PRODID:-//BGSQD - ECPv6.15.20//NONSGML v1.0//EN
CALSCALE:GREGORIAN
METHOD:PUBLISH
X-WR-CALNAME:BGSQD
X-ORIGINAL-URL:https://www.bgsqd.com
X-WR-CALDESC:Events for BGSQD
REFRESH-INTERVAL;VALUE=DURATION:PT1H
X-Robots-Tag:noindex
X-PUBLISHED-TTL:PT1H
BEGIN:VTIMEZONE
TZID:America/New_York
BEGIN:DAYLIGHT
TZOFFSETFROM:-0500
TZOFFSETTO:-0400
TZNAME:EDT
DTSTART:20150308T070000
END:DAYLIGHT
BEGIN:STANDARD
TZOFFSETFROM:-0400
TZOFFSETTO:-0500
TZNAME:EST
DTSTART:20151101T060000
END:STANDARD
BEGIN:DAYLIGHT
TZOFFSETFROM:-0500
TZOFFSETTO:-0400
TZNAME:EDT
DTSTART:20160313T070000
END:DAYLIGHT
BEGIN:STANDARD
TZOFFSETFROM:-0400
TZOFFSETTO:-0500
TZNAME:EST
DTSTART:20161106T060000
END:STANDARD
BEGIN:DAYLIGHT
TZOFFSETFROM:-0500
TZOFFSETTO:-0400
TZNAME:EDT
DTSTART:20170312T070000
END:DAYLIGHT
BEGIN:STANDARD
TZOFFSETFROM:-0400
TZOFFSETTO:-0500
TZNAME:EST
DTSTART:20171105T060000
END:STANDARD
END:VTIMEZONE
BEGIN:VEVENT
DTSTART;TZID=America/New_York:20161105T190000
DTEND;TZID=America/New_York:20161105T210000
DTSTAMP:20260424T230400
CREATED:20161011T203215Z
LAST-MODIFIED:20161011T203256Z
UID:6567-1478372400-1478379600@www.bgsqd.com
SUMMARY:Heather Love and Sarah Schulman in Conversation on the publication of Sarah's New Book: Conflict Is Not Abuse
DESCRIPTION:  \nHeather Love and Sarah Schulman in conversation on Schulman’s new book: Conflict Is Not Abuse: Overstating Harm\, Community Responsibility\, and the Duty of Repair.\n \n \nHeather Love is Associate Professor of English at the University of Pennsylvania. Her work includes Feeling Backward: Loss and the Politics of Queer History (Harvard) and the editor of a special issue of GLQ on Gayle Rubin (“Rethinking Sex”) and the co-editor of a special issue of Representations (“Description Across Disciplines”). She has written on topics including comparative social stigma\, compulsory happiness\, transgender fiction\, spinster aesthetics\, reading methods in literary studies\, and the history of deviance studies. She is currently completing a book on practices of description in the humanities and social sciences after World War II.\n \n \nSarah Schulman is a novelist\, nonfiction writer\, playwright\, screenwriter\, journalist and AIDS historian. She is co-founder of the MIX: NY Queer Experimental Film Festival (now in its 29th season)\, The ACT UP Oral History Project www.actuporalhistory.org\, is on the Advisory Board of Jewish Voice for Peace\, and is Faculty Advisor to Students for Justice in Palestine at the College of Staten Island where she is a Distinguished Professor. Conflict Is Not Abuse\, is her 18th book. \n \n  \n 
URL:https://www.bgsqd.com/event/heather-love-sarah-schulman/
LOCATION:NY
ATTACH;FMTTYPE=image/jpeg:https://www.bgsqd.com/wp-content/uploads/2016/10/Conflict-Is-Not-Abuse1.jpg
END:VEVENT
END:VCALENDAR