BEGIN:VCALENDAR
VERSION:2.0
PRODID:-//BGSQD - ECPv6.15.20//NONSGML v1.0//EN
CALSCALE:GREGORIAN
METHOD:PUBLISH
X-WR-CALNAME:BGSQD
X-ORIGINAL-URL:https://www.bgsqd.com
X-WR-CALDESC:Events for BGSQD
REFRESH-INTERVAL;VALUE=DURATION:PT1H
X-Robots-Tag:noindex
X-PUBLISHED-TTL:PT1H
BEGIN:VTIMEZONE
TZID:America/New_York
BEGIN:DAYLIGHT
TZOFFSETFROM:-0500
TZOFFSETTO:-0400
TZNAME:EDT
DTSTART:20150308T070000
END:DAYLIGHT
BEGIN:STANDARD
TZOFFSETFROM:-0400
TZOFFSETTO:-0500
TZNAME:EST
DTSTART:20151101T060000
END:STANDARD
BEGIN:DAYLIGHT
TZOFFSETFROM:-0500
TZOFFSETTO:-0400
TZNAME:EDT
DTSTART:20160313T070000
END:DAYLIGHT
BEGIN:STANDARD
TZOFFSETFROM:-0400
TZOFFSETTO:-0500
TZNAME:EST
DTSTART:20161106T060000
END:STANDARD
BEGIN:DAYLIGHT
TZOFFSETFROM:-0500
TZOFFSETTO:-0400
TZNAME:EDT
DTSTART:20170312T070000
END:DAYLIGHT
BEGIN:STANDARD
TZOFFSETFROM:-0400
TZOFFSETTO:-0500
TZNAME:EST
DTSTART:20171105T060000
END:STANDARD
END:VTIMEZONE
BEGIN:VEVENT
DTSTART;TZID=America/New_York:20161028T190000
DTEND;TZID=America/New_York:20161028T213000
DTSTAMP:20260422T024522
CREATED:20161005T160849Z
LAST-MODIFIED:20161005T161151Z
UID:6552-1477681200-1477690200@www.bgsqd.com
SUMMARY:TELL 28: Horror Stories
DESCRIPTION:  \nTELL is an evening of story telling from the mouths and minds of queers in NYC hosted by Drae Campbell at the Bureau of General Services—Queer Division since February 2014. \nHorror Stories is the theme of the twenty-eighth installment of TELL. Featuring Erica Cardwell\, Gabriella Belfiglio\, Imani Keith Henry\, and Reese. \n\n  \n$10 suggested donation – no one turned away for lack of funds \n  \n \nDrae Campbell is a writer\, actor\, director\, story teller\, dancer\, and nightlife emcee. Drae has been featured on Late Night with Conan O’Brien and on stages all over NYC. Drae’s directing work has appeared in Iceland\, NYC\, Budapest and in the San Francisco Fringe Festival. The short film Drae wrote and starred in with Rebecca Drysdale\, YOU MOVE ME won the Audience Award for Outstanding Narrative Short at OUTFEST 2010 and has been shown in festivals globally. Drae won the grand prize at the first annual San Miguel De Allende Storytelling Festival in Mexico. She once reigned as Miss LEZ and also got dubbed “the next lezzie comedian on the block” by AfterEllen.com for her comedic stylings on the interwebs. Campbell hosts and curates a monthly queer storytelling show called TELL at BGSQD. Check her out online!  www.draecampbell.com. \n  \n  \n\n\nReese is a 34 year old Lesbian from a ghost town in the mountains of New Mexico. She came to New York eight years ago after volunteering for the Peace Corps in El Salvador. Reese is a filmmaker by day and a dance floor demolisher by night.\n \n\n \n\n\nImani Keith Henry is a longtime activist in the anti-police brutality\, anti-war and LGBTQ movements in the US. He is a #BlackLivesMatter organizer with The Peoples Power Assembly. In 2013\, Imani founded The Equality for Flatbush Project (E4F)\, which does grassroots anti-police repression\, affordable housing and anti-gentrification organizing in the East Flatbush and Flatbush communities of Brooklyn\, NY. In February 2015\, Equality for Flatbush\, initiated The Brooklyn Anti-Gentrification Network. Imani has a Masters in Social Work from New York University Silver School of Social Work and a Masters in Public Administration from The Wagner School of Public Service. Under the brand\, OD For the People\, Imani is an Organizational Development Consultant and Diversity Trainer who provides change management services specifically for nonprofits and universities.\n \n \n \n\n \n\nErica Cardwell is a writer and radical educator. Her essays and reviews have appeared in Hyperallergic\, Sinister Wisdom\, the Lightwork Annual\, The Feminist Wire\, Bitch Media\, and EMERGE: An Anthology of the 2105 Lambda Literary Fellows. Erica hopes to complete a draft of her first book\, Stone Fruit- a collection of personal essays by December.\n \n \n\n\n\n\n \n\nGabriella M. Belfiglio lives in Brooklyn\, NY with her wife and four cats.  Her guilty pleasure is watching bad reality tv.  If you make friends with her she might cook you a delicious dinner.  She’s a teacher and poet and if you are a book publisher her manuscript needs a good home.\n  \n  \n  \n 
URL:https://www.bgsqd.com/event/tell-28-horror-stories/
LOCATION:Online event\, New York\, NY\, United States
ATTACH;FMTTYPE=image/jpeg:https://www.bgsqd.com/wp-content/uploads/2016/10/TELL-28-final.jpg
ORGANIZER;CN="Bureau of General Services%E2%80%94Queer Division":MAILTO:contact@bgsqd.com
END:VEVENT
END:VCALENDAR