BEGIN:VCALENDAR
VERSION:2.0
PRODID:-//BGSQD - ECPv6.15.20//NONSGML v1.0//EN
CALSCALE:GREGORIAN
METHOD:PUBLISH
X-WR-CALNAME:BGSQD
X-ORIGINAL-URL:https://www.bgsqd.com
X-WR-CALDESC:Events for BGSQD
REFRESH-INTERVAL;VALUE=DURATION:PT1H
X-Robots-Tag:noindex
X-PUBLISHED-TTL:PT1H
BEGIN:VTIMEZONE
TZID:America/New_York
BEGIN:DAYLIGHT
TZOFFSETFROM:-0500
TZOFFSETTO:-0400
TZNAME:EDT
DTSTART:20150308T070000
END:DAYLIGHT
BEGIN:STANDARD
TZOFFSETFROM:-0400
TZOFFSETTO:-0500
TZNAME:EST
DTSTART:20151101T060000
END:STANDARD
BEGIN:DAYLIGHT
TZOFFSETFROM:-0500
TZOFFSETTO:-0400
TZNAME:EDT
DTSTART:20160313T070000
END:DAYLIGHT
BEGIN:STANDARD
TZOFFSETFROM:-0400
TZOFFSETTO:-0500
TZNAME:EST
DTSTART:20161106T060000
END:STANDARD
BEGIN:DAYLIGHT
TZOFFSETFROM:-0500
TZOFFSETTO:-0400
TZNAME:EDT
DTSTART:20170312T070000
END:DAYLIGHT
BEGIN:STANDARD
TZOFFSETFROM:-0400
TZOFFSETTO:-0500
TZNAME:EST
DTSTART:20171105T060000
END:STANDARD
END:VTIMEZONE
BEGIN:VEVENT
DTSTART;TZID=America/New_York:20161022T130000
DTEND;TZID=America/New_York:20161022T190000
DTSTAMP:20260422T022709
CREATED:20160923T170330Z
LAST-MODIFIED:20161003T164701Z
UID:6511-1477141200-1477162800@www.bgsqd.com
SUMMARY:New York Queer Zine Fair 2016
DESCRIPTION:  \nNew York Queer Zine Fair returns to the Bureau for two days! On Saturday\, October 22\, join: \nDavid Macke  www.davidmodel.com\nHeadmaster Magazine  www.headmastermagazine.com\nJason Haaf\nSTH  https://straight-to-hell.com\nBlack Lesbian DIY Fest @blklezdiyfest (twitter)\nCreeps Annual  www.creepsannual.com\nWarefamos  https://warefamos.tumblr.com\nSelfish  www.girlsgetselfish.com\nDaily Life Storage  https://www.dailylifestorage.com\nPosture Magazine  https://posturemag.com\nAnthony Malone  anthonymaloneisalive.tumblr.com\nCakeboy Magazine  https://cakeboymag.com\nCameron Dailey\nStephen Grebinski  www.stephengrebinski.com\nRaw Meat  www.rawmeatcollective.com\nWabisabizinez  www.wabisabizinez.storenvy.com\nHOMOCATS/James Morrison  www.j-morrison.com\nAnxiety-Dreams  https://anxiety-dreams.com \n  \n  \n 
URL:https://www.bgsqd.com/event/new-york-queer-zine-fair-2016/
LOCATION:NY
ATTACH;FMTTYPE=image/jpeg:https://www.bgsqd.com/wp-content/uploads/2016/09/NY-Queer-Zine-Fair-copy.jpg
END:VEVENT
END:VCALENDAR