BEGIN:VCALENDAR
VERSION:2.0
PRODID:-//BGSQD - ECPv6.15.20//NONSGML v1.0//EN
CALSCALE:GREGORIAN
METHOD:PUBLISH
X-ORIGINAL-URL:https://www.bgsqd.com
X-WR-CALDESC:Events for BGSQD
REFRESH-INTERVAL;VALUE=DURATION:PT1H
X-Robots-Tag:noindex
X-PUBLISHED-TTL:PT1H
BEGIN:VTIMEZONE
TZID:America/New_York
BEGIN:DAYLIGHT
TZOFFSETFROM:-0500
TZOFFSETTO:-0400
TZNAME:EDT
DTSTART:20150308T070000
END:DAYLIGHT
BEGIN:STANDARD
TZOFFSETFROM:-0400
TZOFFSETTO:-0500
TZNAME:EST
DTSTART:20151101T060000
END:STANDARD
BEGIN:DAYLIGHT
TZOFFSETFROM:-0500
TZOFFSETTO:-0400
TZNAME:EDT
DTSTART:20160313T070000
END:DAYLIGHT
BEGIN:STANDARD
TZOFFSETFROM:-0400
TZOFFSETTO:-0500
TZNAME:EST
DTSTART:20161106T060000
END:STANDARD
BEGIN:DAYLIGHT
TZOFFSETFROM:-0500
TZOFFSETTO:-0400
TZNAME:EDT
DTSTART:20170312T070000
END:DAYLIGHT
BEGIN:STANDARD
TZOFFSETFROM:-0400
TZOFFSETTO:-0500
TZNAME:EST
DTSTART:20171105T060000
END:STANDARD
END:VTIMEZONE
BEGIN:VEVENT
DTSTART;TZID=America/New_York:20161018T190000
DTEND;TZID=America/New_York:20161018T213000
DTSTAMP:20260424T075441
CREATED:20161017T160528Z
LAST-MODIFIED:20161017T160620Z
UID:6577-1476817200-1476826200@www.bgsqd.com
SUMMARY:Union Square Slam: Billy Tuggle\, Wil Gibson and Open Slam #2
DESCRIPTION:  \nUnion Square Slam is super excited to host our second of six chances to qualify for our Team Selection Finals in April. To boot\, we have an exciting feature for you: The Griot and Troubadour tour\, Wil Gibson and Bill Tuggle!!! \n6pm: Free Writing Workshop\n7pm: Sign-ups and Socialize\n8pm: Slam Round One (8 poets)\n8:30pm: Features\n9pm: Slam Rounds 2 and 3 (5 and 3 poets\, respectively) \n$5 Admission // All Ages // Wheelchair Accessible \nAbout Our Features: \nWil Gibson is a writer that has lived in a lot of places or passed through them at some point\, but has only called a few of them home. He currently lives in Humboldt County\, California where the trees are big. He has had 4 collections published by kind people\, and has been included in a number of anthologies and lit mags both online and in print. He was a founding member of Port Veritas in Portland\, Maine\, has been featured on Button Poetry\, and has been on 7 National Poetry Slam teams from coast to coast. \nYou can find links to books and more info at wilgibson.com \nBilly Tuggle a.k.a. Karma Threesixty is a vocalist\, performance poet\, mentor\, student\, and HipHop culturalist. Since 2004\, he has been a member of the Chicago multimedia arts collective PolyRhythmic and\, in 2009\, co-founded the Chicago Four Star Poetry Club with Andi Kauth. Billy has co-hosted “In One Ear” at the Heartland Café since 2008 with Pete Wolf. As of 2010\, Billy is a member of the Arkansas Grand Slam organizing committee. \nBilly has been published in such anthologies as The Columbia Poetry Review #14\, The 16th & Mission Review\, Minglewood Haiku and Learn Then Burn. His first chapbook\, Conscience Under Pressure\, was published by Fractal Edge Press. Since 2004\, he has recorded and released 3 CDs: Flawed Glory (Live Mental Graffiti)\, Syllabalistics 101 with DJ Risky Bizness\, and Turnstyles. In the independent film Urban Poet [New Film Productions\, 2002]\, he played himself. \nBilly has been active in the Temple of HipHop for over a decade. Music and poetry have led him to share stages with Brother Ali\, Pevin Everett\, the Large Professor\, Denizen Kane of Typical Cats\, DJ Spinna\, Jesse De La Pena\, Saul Williams\, KRS-ONE and “American Idol” finalist Crystal Bowersox. \nBilly has represented the Chicago area at the National Poetry Slam 7 years running. Other slam accomplishments include Rustbelt Regional champion- 2006\, finalist 2008; Chicago Grand Slam Champion- 2008; NPS semifinalist 2006\, 2008; Arkansas Grand Slam finalist and Grand Haikuster- 2009; Lethal Poetry/Chicago Grand Slam Champion 2010. Other teammates and collaborators have included Def Poets Nikki Patin\, Marty McConnell\, Alvin Lau and Death From Below plus Tristan Silverman\, Jon Sands\, Laura Yes Yes and JW Baz; all inter/national slam competition finalists. Billy has been a regular volunteer for the Women of the World Poetry Slam\, Louder Than A Bomb\, the Chicago youth slam\, and Brave New Voices. \nBilly has also appeared in the educational video Literature Launchers for McGraw-Hill. He has performed\, facilitated workshops or has just plain spoken to students at or for the University of Chicago; Columbia College (Chicago); Northwestern University; the University of Minnesota; the University of Connecticut; Hampshire College (Massachusetts); the University of California-Santa Cruz; Humboldt State University\, and\, in addition to other colleges across America\, middle and high schools all over Chicagoland. \n  \n  \n 
URL:https://www.bgsqd.com/event/union-square-slam-presents-billy-tuggle-wil-gibson/
LOCATION:NY
ATTACH;FMTTYPE=image/jpeg:https://www.bgsqd.com/wp-content/uploads/2016/10/USS-10-18.jpg
END:VEVENT
END:VCALENDAR