BEGIN:VCALENDAR
VERSION:2.0
PRODID:-//BGSQD - ECPv6.15.20//NONSGML v1.0//EN
CALSCALE:GREGORIAN
METHOD:PUBLISH
X-ORIGINAL-URL:https://www.bgsqd.com
X-WR-CALDESC:Events for BGSQD
REFRESH-INTERVAL;VALUE=DURATION:PT1H
X-Robots-Tag:noindex
X-PUBLISHED-TTL:PT1H
BEGIN:VTIMEZONE
TZID:America/New_York
BEGIN:DAYLIGHT
TZOFFSETFROM:-0500
TZOFFSETTO:-0400
TZNAME:EDT
DTSTART:20150308T070000
END:DAYLIGHT
BEGIN:STANDARD
TZOFFSETFROM:-0400
TZOFFSETTO:-0500
TZNAME:EST
DTSTART:20151101T060000
END:STANDARD
BEGIN:DAYLIGHT
TZOFFSETFROM:-0500
TZOFFSETTO:-0400
TZNAME:EDT
DTSTART:20160313T070000
END:DAYLIGHT
BEGIN:STANDARD
TZOFFSETFROM:-0400
TZOFFSETTO:-0500
TZNAME:EST
DTSTART:20161106T060000
END:STANDARD
BEGIN:DAYLIGHT
TZOFFSETFROM:-0500
TZOFFSETTO:-0400
TZNAME:EDT
DTSTART:20170312T070000
END:DAYLIGHT
BEGIN:STANDARD
TZOFFSETFROM:-0400
TZOFFSETTO:-0500
TZNAME:EST
DTSTART:20171105T060000
END:STANDARD
END:VTIMEZONE
BEGIN:VEVENT
DTSTART;TZID=America/New_York:20161014T190000
DTEND;TZID=America/New_York:20161014T210000
DTSTAMP:20260422T024628
CREATED:20160926T164452Z
LAST-MODIFIED:20160926T164810Z
UID:6526-1476471600-1476478800@www.bgsqd.com
SUMMARY:Show & Tale: MWMF (aka MichFest)
DESCRIPTION:Michigan Womyn’s Music Festival was part of our lesbian herstory & culture for 40 years. Now what?\nDid you keep your wrist band? Handmade sign? A piece of art you created there or bought? A book\, poster or tape/CD with one of the performers autographs? And of course the photos & scars/ink and many other objects holding part of your story….. Every Thing has a story!\nShow & Tell or Look & Listen! Everyone & Every Thing WELCOME. \n  \n  \n 
URL:https://www.bgsqd.com/event/show-tale-mwmf-aka-michfest/
LOCATION:NY
ATTACH;FMTTYPE=image/jpeg:https://www.bgsqd.com/wp-content/uploads/2016/09/MichWomynsMusicFest.jpg
END:VEVENT
END:VCALENDAR