BEGIN:VCALENDAR
VERSION:2.0
PRODID:-//BGSQD - ECPv6.15.20//NONSGML v1.0//EN
CALSCALE:GREGORIAN
METHOD:PUBLISH
X-WR-CALNAME:BGSQD
X-ORIGINAL-URL:https://www.bgsqd.com
X-WR-CALDESC:Events for BGSQD
REFRESH-INTERVAL;VALUE=DURATION:PT1H
X-Robots-Tag:noindex
X-PUBLISHED-TTL:PT1H
BEGIN:VTIMEZONE
TZID:America/New_York
BEGIN:DAYLIGHT
TZOFFSETFROM:-0500
TZOFFSETTO:-0400
TZNAME:EDT
DTSTART:20150308T070000
END:DAYLIGHT
BEGIN:STANDARD
TZOFFSETFROM:-0400
TZOFFSETTO:-0500
TZNAME:EST
DTSTART:20151101T060000
END:STANDARD
BEGIN:DAYLIGHT
TZOFFSETFROM:-0500
TZOFFSETTO:-0400
TZNAME:EDT
DTSTART:20160313T070000
END:DAYLIGHT
BEGIN:STANDARD
TZOFFSETFROM:-0400
TZOFFSETTO:-0500
TZNAME:EST
DTSTART:20161106T060000
END:STANDARD
BEGIN:DAYLIGHT
TZOFFSETFROM:-0500
TZOFFSETTO:-0400
TZNAME:EDT
DTSTART:20170312T070000
END:DAYLIGHT
BEGIN:STANDARD
TZOFFSETFROM:-0400
TZOFFSETTO:-0500
TZNAME:EST
DTSTART:20171105T060000
END:STANDARD
END:VTIMEZONE
BEGIN:VEVENT
DTSTART;TZID=America/New_York:20161013T183000
DTEND;TZID=America/New_York:20161013T200000
DTSTAMP:20260424T051501
CREATED:20160926T162904Z
LAST-MODIFIED:20160926T163515Z
UID:6523-1476383400-1476388800@www.bgsqd.com
SUMMARY:Bi Book Club discusses Girlfag by Janet W. Hardy
DESCRIPTION:  \nOur book for Oct: Girlfag: A Life Told In Sex and Musicals is a memoir by Ethical Slut co-author Janet W. Hardy\, focussing on her relationships with men and women. It was a finalist of the first year of the Bisexual Book Awards\, published in 2011. \nCome and join the discussion\, even if you haven’t read the book. We take turns reading passages aloud from the book and discuss them–anyone can participate! As usual\, we’ll be using the text as a jumping off point to further discussion of bisexual issues and personal experiences. \nIf you have read the book: pick out some phrases\, paragraphs or scenes that you’d like to discuss\, give us your critique of the book: what worked\, what didn’t\, how was bisexuality represented? \nRSVP: to Bi Meetup \nJoin Bi Meetup: to get announcements about Bi Book Club and other bi groups & events in the NYC area. \nNext Book: TBA \nDirections: Take A\,C\,E\,L\,1\,2\,3 train to 14 St. \nQuestions? Email fuscialadybug (at) netzero (dot) com or call 917-583-1797. \n  \n  \n 
URL:https://www.bgsqd.com/event/bi-book-club-discusses-girlfag/
LOCATION:NY
ATTACH;FMTTYPE=image/jpeg:https://www.bgsqd.com/wp-content/uploads/2016/09/Girlfag.jpg
END:VEVENT
END:VCALENDAR