BEGIN:VCALENDAR
VERSION:2.0
PRODID:-//BGSQD - ECPv6.15.20//NONSGML v1.0//EN
CALSCALE:GREGORIAN
METHOD:PUBLISH
X-ORIGINAL-URL:https://www.bgsqd.com
X-WR-CALDESC:Events for BGSQD
REFRESH-INTERVAL;VALUE=DURATION:PT1H
X-Robots-Tag:noindex
X-PUBLISHED-TTL:PT1H
BEGIN:VTIMEZONE
TZID:America/New_York
BEGIN:DAYLIGHT
TZOFFSETFROM:-0500
TZOFFSETTO:-0400
TZNAME:EDT
DTSTART:20150308T070000
END:DAYLIGHT
BEGIN:STANDARD
TZOFFSETFROM:-0400
TZOFFSETTO:-0500
TZNAME:EST
DTSTART:20151101T060000
END:STANDARD
BEGIN:DAYLIGHT
TZOFFSETFROM:-0500
TZOFFSETTO:-0400
TZNAME:EDT
DTSTART:20160313T070000
END:DAYLIGHT
BEGIN:STANDARD
TZOFFSETFROM:-0400
TZOFFSETTO:-0500
TZNAME:EST
DTSTART:20161106T060000
END:STANDARD
BEGIN:DAYLIGHT
TZOFFSETFROM:-0500
TZOFFSETTO:-0400
TZNAME:EDT
DTSTART:20170312T070000
END:DAYLIGHT
BEGIN:STANDARD
TZOFFSETFROM:-0400
TZOFFSETTO:-0500
TZNAME:EST
DTSTART:20171105T060000
END:STANDARD
END:VTIMEZONE
BEGIN:VEVENT
DTSTART;TZID=America/New_York:20161008T100000
DTEND;TZID=America/New_York:20161008T120000
DTSTAMP:20260422T033640
CREATED:20160916T163637Z
LAST-MODIFIED:20160916T191032Z
UID:6485-1475920800-1475928000@www.bgsqd.com
SUMMARY:Eros & Dust Erotic Writing Workshop with Trebor Healey
DESCRIPTION:  \nWhat are the challenges of writing good erotic prose and poetry? Is erotic writing a separate genre or can it be an integral part of all genres? If so\, how do we get past the trap of the subjective and build erotic voices grounded in our various characters\, setting and voice? How can using humor\, bad sex or even problematic sex lend themselves to a fuller – and yes hotter – interaction between two characters? Ultimately what is the relationship between sex and literature and how can we make it naturally fit in the flow of a good story? \nSuggested donation of $10. \nPlease bring pen and paper. \nLimited to 15 participants. \nPlease write to Trebor Healey to sign up for the workshop: treborhealey@gmail.com \n  \nTrebor Healey is the recipient of a Lambda Literary award\, two Publishing Triangle awards and a Violet Quill award. He is the author of three novels (A Horse Named Sorrow\, Faun\, and Through It Came Bright Colors) a book of poetry (Sweet Son of Pan) and a previous collection of stories (A Perfect Scar & Other Stories). He co-edited (with Marci Blackman) Beyond Definition: New Writing from Gay and Lesbian San Francisco and co-edited (with Amie M. Evans) Queer & Catholic. www.treborhealey.com. \n  \n  \n 
URL:https://www.bgsqd.com/event/trebor-healey-writing-workshop/
LOCATION:NY
ATTACH;FMTTYPE=image/jpeg:https://www.bgsqd.com/wp-content/uploads/2016/09/trebor-healey.jpg
END:VEVENT
BEGIN:VEVENT
DTSTART;TZID=America/New_York:20161008T190000
DTEND;TZID=America/New_York:20161008T210000
DTSTAMP:20260422T033640
CREATED:20160910T143014Z
LAST-MODIFIED:20160910T211102Z
UID:6450-1475953200-1475960400@www.bgsqd.com
SUMMARY:Rumi Missabu hosts: Six Twisted Views from The Left Coast
DESCRIPTION:  \nThe legendary Original Cockette Rumi Missabu returns to the Bureau from San Francisco with Donna Personna\, Trangela Lansbury\, Roxanne Redmeat\, Bruja\, Hayley Nystrom\, and HRH Lee Mentley\, joined by New York’s own Nicholas Gorham! \nPhoto credits:\nNicholas Gorham\, photograph by James Miille\nBruja\, photograph by David Wilson\nRumi Missabu\, photograph by Fletcher Oakes\nDonna Persona\, photograph by Keith Gemerek\nRoxanne Redmeat\, photograph by David Wilson\nTrangela Lansbury\, photograph by Sloane Kanter \n 
URL:https://www.bgsqd.com/event/rumi-missabu-hosts-six-twisted-views-from-the-left-coast/
LOCATION:NY
ATTACH;FMTTYPE=image/jpeg:https://www.bgsqd.com/wp-content/uploads/2016/09/Rumi-October-8-final-500.jpg
END:VEVENT
END:VCALENDAR