BEGIN:VCALENDAR
VERSION:2.0
PRODID:-//BGSQD - ECPv6.15.20//NONSGML v1.0//EN
CALSCALE:GREGORIAN
METHOD:PUBLISH
X-ORIGINAL-URL:https://www.bgsqd.com
X-WR-CALDESC:Events for BGSQD
REFRESH-INTERVAL;VALUE=DURATION:PT1H
X-Robots-Tag:noindex
X-PUBLISHED-TTL:PT1H
BEGIN:VTIMEZONE
TZID:America/New_York
BEGIN:DAYLIGHT
TZOFFSETFROM:-0500
TZOFFSETTO:-0400
TZNAME:EDT
DTSTART:20150308T070000
END:DAYLIGHT
BEGIN:STANDARD
TZOFFSETFROM:-0400
TZOFFSETTO:-0500
TZNAME:EST
DTSTART:20151101T060000
END:STANDARD
BEGIN:DAYLIGHT
TZOFFSETFROM:-0500
TZOFFSETTO:-0400
TZNAME:EDT
DTSTART:20160313T070000
END:DAYLIGHT
BEGIN:STANDARD
TZOFFSETFROM:-0400
TZOFFSETTO:-0500
TZNAME:EST
DTSTART:20161106T060000
END:STANDARD
BEGIN:DAYLIGHT
TZOFFSETFROM:-0500
TZOFFSETTO:-0400
TZNAME:EDT
DTSTART:20170312T070000
END:DAYLIGHT
BEGIN:STANDARD
TZOFFSETFROM:-0400
TZOFFSETTO:-0500
TZNAME:EST
DTSTART:20171105T060000
END:STANDARD
END:VTIMEZONE
BEGIN:VEVENT
DTSTART;TZID=America/New_York:20161007T190000
DTEND;TZID=America/New_York:20161007T210000
DTSTAMP:20260422T035358
CREATED:20160916T162440Z
LAST-MODIFIED:20160916T163812Z
UID:6479-1475866800-1475874000@www.bgsqd.com
SUMMARY:Trebor Healey Reading and Q&A for new book\, Eros & Dust
DESCRIPTION:  \nA reading and q&a for Eros & Dust\, a new collection of short stories by Trebor Healey\, the author of the Ferro-Grumley Fiction Award-winning novel\, A Horse Named Sorrow. \nTo reserve a copy of Eros & Dust\, please write to us at contact@bgsqd.com. \n  \nTrebor Healey will conduct an erotic writing workshop at the Bureau on the morning of Saturday\, October 8th. Details here. \n  \n \nTrebor Healey is the recipient of a Lambda Literary award\, two Publishing Triangle awards and a Violet Quill award. He is the author of three novels (A Horse Named Sorrow\, Faun\, and Through It Came Bright Colors) a book of poetry (Sweet Son of Pan) and a previous collection of stories (A Perfect Scar & Other Stories). He co-edited (with Marci Blackman) Beyond Definition: New Writing from Gay and Lesbian San Francisco and co-edited (with Amie M. Evans) Queer & Catholic. www.treborhealey.com. \n  \n  \n 
URL:https://www.bgsqd.com/event/trebor-healey-reading-and-qa-for-new-book-eros-dust/
LOCATION:NY
ATTACH;FMTTYPE=image/jpeg:https://www.bgsqd.com/wp-content/uploads/2016/09/Trebor-Healey-Eros-and-Dust.jpg
END:VEVENT
END:VCALENDAR