BEGIN:VCALENDAR
VERSION:2.0
PRODID:-//BGSQD - ECPv6.15.20//NONSGML v1.0//EN
CALSCALE:GREGORIAN
METHOD:PUBLISH
X-ORIGINAL-URL:https://www.bgsqd.com
X-WR-CALDESC:Events for BGSQD
REFRESH-INTERVAL;VALUE=DURATION:PT1H
X-Robots-Tag:noindex
X-PUBLISHED-TTL:PT1H
BEGIN:VTIMEZONE
TZID:America/New_York
BEGIN:DAYLIGHT
TZOFFSETFROM:-0500
TZOFFSETTO:-0400
TZNAME:EDT
DTSTART:20150308T070000
END:DAYLIGHT
BEGIN:STANDARD
TZOFFSETFROM:-0400
TZOFFSETTO:-0500
TZNAME:EST
DTSTART:20151101T060000
END:STANDARD
BEGIN:DAYLIGHT
TZOFFSETFROM:-0500
TZOFFSETTO:-0400
TZNAME:EDT
DTSTART:20160313T070000
END:DAYLIGHT
BEGIN:STANDARD
TZOFFSETFROM:-0400
TZOFFSETTO:-0500
TZNAME:EST
DTSTART:20161106T060000
END:STANDARD
BEGIN:DAYLIGHT
TZOFFSETFROM:-0500
TZOFFSETTO:-0400
TZNAME:EDT
DTSTART:20170312T070000
END:DAYLIGHT
BEGIN:STANDARD
TZOFFSETFROM:-0400
TZOFFSETTO:-0500
TZNAME:EST
DTSTART:20171105T060000
END:STANDARD
END:VTIMEZONE
BEGIN:VEVENT
DTSTART;TZID=America/New_York:20161005T190000
DTEND;TZID=America/New_York:20161005T210000
DTSTAMP:20260424T043345
CREATED:20160916T160446Z
LAST-MODIFIED:20160919T162910Z
UID:6474-1475694000-1475701200@www.bgsqd.com
SUMMARY:Something in the Blood: The Untold Story of Bram Stoker
DESCRIPTION:  \nDavid J. Skal discusses and signs Something in the Blood: The Untold Story of Bram Stoker\, the Man Who Wrote Dracula. \nIntroduction by Christopher Bram\, author of Gods and Monsters.\nBram Stoker\, despite having a name nearly as famous as his legendary undead Count\, has remained a puzzling enigma. In a talk with Christopher Bram based on his new book— Something in the Blood: The Untold Story of Bram Stoker\, the Man Who Wrote Dracula— David J. Skal exhumes the inner world and strange genius of the writer who conjured an undying cultural icon. The psychosexual dimensions of Stoker’s passionate youthful correspondence with Walt Whitman\, his punishing work ethic\, and his slavish adoration of the actor Sir Henry Irving are examined in splendidly Gothic detail. \nFollowing his talk\, Skal will sign copies of Something in the Blood. \nTo reserve a copy of Something in the Blood\, please write to us at contact@bgsqd.com. \n  \nPhotograph by Brian J. Showers\nDavid J. Skal is a leading American cultural historian and critic of horror ﬁlm and literature. The author of The Monster Show and Hollywood Gothic\, he lives in Glendale\, California. \n  \n  \n \nChristopher Bram is the author of nine novels\, including Father of Frankenstein\, which was made into the Academy Award–winning movie Gods and Monsters\, starring Ian McKellen. Bram was a Guggenheim Fellow in 2001\, and in 2003\, he received Publishing Triangle’s Bill Whitehead Award for Lifetime Achievement. He lives in Greenwich Village and teaches at New York University. \n  \n 
URL:https://www.bgsqd.com/event/something-in-the-blood/
LOCATION:NY
ATTACH;FMTTYPE=image/jpeg:https://www.bgsqd.com/wp-content/uploads/2016/09/something-in-the-blood-final.jpg
END:VEVENT
END:VCALENDAR