BEGIN:VCALENDAR
VERSION:2.0
PRODID:-//BGSQD - ECPv6.15.20//NONSGML v1.0//EN
CALSCALE:GREGORIAN
METHOD:PUBLISH
X-WR-CALNAME:BGSQD
X-ORIGINAL-URL:https://www.bgsqd.com
X-WR-CALDESC:Events for BGSQD
REFRESH-INTERVAL;VALUE=DURATION:PT1H
X-Robots-Tag:noindex
X-PUBLISHED-TTL:PT1H
BEGIN:VTIMEZONE
TZID:America/New_York
BEGIN:DAYLIGHT
TZOFFSETFROM:-0500
TZOFFSETTO:-0400
TZNAME:EDT
DTSTART:20150308T070000
END:DAYLIGHT
BEGIN:STANDARD
TZOFFSETFROM:-0400
TZOFFSETTO:-0500
TZNAME:EST
DTSTART:20151101T060000
END:STANDARD
BEGIN:DAYLIGHT
TZOFFSETFROM:-0500
TZOFFSETTO:-0400
TZNAME:EDT
DTSTART:20160313T070000
END:DAYLIGHT
BEGIN:STANDARD
TZOFFSETFROM:-0400
TZOFFSETTO:-0500
TZNAME:EST
DTSTART:20161106T060000
END:STANDARD
BEGIN:DAYLIGHT
TZOFFSETFROM:-0500
TZOFFSETTO:-0400
TZNAME:EDT
DTSTART:20170312T070000
END:DAYLIGHT
BEGIN:STANDARD
TZOFFSETFROM:-0400
TZOFFSETTO:-0500
TZNAME:EST
DTSTART:20171105T060000
END:STANDARD
END:VTIMEZONE
BEGIN:VEVENT
DTSTART;TZID=America/New_York:20160930T200000
DTEND;TZID=America/New_York:20160930T213000
DTSTAMP:20260424T075320
CREATED:20160913T211835Z
LAST-MODIFIED:20160915T135146Z
UID:6460-1475265600-1475271000@www.bgsqd.com
SUMMARY:Private Dick: An Aurally Stimulating Evening
DESCRIPTION:Chris Harder and Harder Candy Inc. are excited to uncover for YOU: PRIVATE DICK\, queerly mysterious readings from gay and lesbian pulp fiction-with an added dash of the Hardy’s Boys and Nancy Drew too! \n“Agents who weren’t like agents\, homosexuals who weren’t like homosexuals — things were getting awfully mixed up.”* \n“Frank noticed a suspicious bulge at the back of the man’s baggy trousers.”** \nDrawing from a variety of authors and work\, Harder\, alongside Burlesque performer Nasty Canasta (Wasabassco Burlesque) and writer Issac Oliver (Intimacy Idiot) present an “aurally fixating” evening that juxtaposes the idealic and hard-boiled American detective with his (and her) even harder homosexual counterparts! Complete with Burlesque performances from Harder and Nasty and raffle prizes from Gun Oil Lube\, The Pleasure Chest\, and Harder Candy Inc.! \n*From\, “The Man From C.A.M.P.” by Victor J. Banis \n**From\, “The Hardy Boys: While the Clock Ticked!” By Franklin W. Dixon \nPrivate DICK at The Bureau\nThe Sleuthing and Stripping STARTS at 8pm!\n$10 Suggested Donation \n  \n 
URL:https://www.bgsqd.com/event/private-dick-an-aurally-stimulating-evening/
LOCATION:NY
ATTACH;FMTTYPE=image/jpeg:https://www.bgsqd.com/wp-content/uploads/2016/09/Private-Dick-final.jpg
END:VEVENT
END:VCALENDAR