BEGIN:VCALENDAR
VERSION:2.0
PRODID:-//BGSQD - ECPv6.15.20//NONSGML v1.0//EN
CALSCALE:GREGORIAN
METHOD:PUBLISH
X-WR-CALNAME:BGSQD
X-ORIGINAL-URL:https://www.bgsqd.com
X-WR-CALDESC:Events for BGSQD
REFRESH-INTERVAL;VALUE=DURATION:PT1H
X-Robots-Tag:noindex
X-PUBLISHED-TTL:PT1H
BEGIN:VTIMEZONE
TZID:America/New_York
BEGIN:DAYLIGHT
TZOFFSETFROM:-0500
TZOFFSETTO:-0400
TZNAME:EDT
DTSTART:20150308T070000
END:DAYLIGHT
BEGIN:STANDARD
TZOFFSETFROM:-0400
TZOFFSETTO:-0500
TZNAME:EST
DTSTART:20151101T060000
END:STANDARD
BEGIN:DAYLIGHT
TZOFFSETFROM:-0500
TZOFFSETTO:-0400
TZNAME:EDT
DTSTART:20160313T070000
END:DAYLIGHT
BEGIN:STANDARD
TZOFFSETFROM:-0400
TZOFFSETTO:-0500
TZNAME:EST
DTSTART:20161106T060000
END:STANDARD
BEGIN:DAYLIGHT
TZOFFSETFROM:-0500
TZOFFSETTO:-0400
TZNAME:EDT
DTSTART:20170312T070000
END:DAYLIGHT
BEGIN:STANDARD
TZOFFSETFROM:-0400
TZOFFSETTO:-0500
TZNAME:EST
DTSTART:20171105T060000
END:STANDARD
END:VTIMEZONE
BEGIN:VEVENT
DTSTART;TZID=America/New_York:20160929T193000
DTEND;TZID=America/New_York:20160929T213000
DTSTAMP:20260424T075325
CREATED:20160831T224046Z
LAST-MODIFIED:20160902T131014Z
UID:6381-1475177400-1475184600@www.bgsqd.com
SUMMARY:Two Natures Novel Launch & Poetry Reading
DESCRIPTION:  \nAn evening of gay literature with two award-winning authors. \nJendi Reiter kicks off her book tour for her debut novel\, Two Natures (Saddle Road Press)\, the spiritual coming-of-age story of a New York City fashion photographer during the 1990s AIDS crisis. Midwest Book Review calls it “a powerful saga” with “intense revelations about what it means to be both Christian and gay”. \n  \nCharlie Bondhus will read from the revised (and remixed!) edition of his first book\, How the Boy Might See It (reissued last year by Jane’s Boy Press)\, plus new work. His most recent book\, All the Heat We Could Carry–voiced by a veteran of the Afghanistan war and his homefront lover–won the 2014 Thom Gunn Award for Gay Poetry. Carolyn Forché calls it “a rare\, brilliant and necessary book”. \nJoin the conversation. Like The Good Men Project on Facebook. \n  \n \nJendi Reiter is the author of the novel Two Natures (Saddle Road Press\, forthcoming 2016) and four poetry books and chapbooks\, most recently Bullies in Love (Little Red Tree Publishing\, 2015). Her stories have appeared in The Iowa Review\, American Fiction\, The Adirondack Review\, Bayou Magazine\, and Literal Latte. Writing awards include a Massachusetts Cultural Council Artist’s Fellowship. She is the editor of WinningWriters.com\, an online resource site for creative writers. Visit her blog at www.jendireiter.com and follow her on Twitter @JendiReiter . \n  \nHeadshot by Alan Barnett\nCharlie Bondhus‘s second poetry book\, All the Heat We Could Carry\, won the 2013 Main Street Rag Award and the 2014 Thom Gunn Award for Gay Poetry. His work appears in Poetry\, The Missouri Review\, Columbia Journal\, The Bellevue Literary Review\, Nimrod\, Copper Nickel\, and others. He is assistant professor of English at Raritan Valley Community College (NJ) and is the poetry editor at The Good Men Project (goodmenproject.com). \n  \n  \n  \n  \n  \n 
URL:https://www.bgsqd.com/event/two-natures-novel-launch-poetry-reading/
LOCATION:NY
ATTACH;FMTTYPE=image/jpeg:https://www.bgsqd.com/wp-content/uploads/2016/08/Reiter-Bondhus-copy.jpg
END:VEVENT
END:VCALENDAR