BEGIN:VCALENDAR
VERSION:2.0
PRODID:-//BGSQD - ECPv6.15.20//NONSGML v1.0//EN
CALSCALE:GREGORIAN
METHOD:PUBLISH
X-WR-CALNAME:BGSQD
X-ORIGINAL-URL:https://www.bgsqd.com
X-WR-CALDESC:Events for BGSQD
REFRESH-INTERVAL;VALUE=DURATION:PT1H
X-Robots-Tag:noindex
X-PUBLISHED-TTL:PT1H
BEGIN:VTIMEZONE
TZID:America/New_York
BEGIN:DAYLIGHT
TZOFFSETFROM:-0500
TZOFFSETTO:-0400
TZNAME:EDT
DTSTART:20150308T070000
END:DAYLIGHT
BEGIN:STANDARD
TZOFFSETFROM:-0400
TZOFFSETTO:-0500
TZNAME:EST
DTSTART:20151101T060000
END:STANDARD
BEGIN:DAYLIGHT
TZOFFSETFROM:-0500
TZOFFSETTO:-0400
TZNAME:EDT
DTSTART:20160313T070000
END:DAYLIGHT
BEGIN:STANDARD
TZOFFSETFROM:-0400
TZOFFSETTO:-0500
TZNAME:EST
DTSTART:20161106T060000
END:STANDARD
BEGIN:DAYLIGHT
TZOFFSETFROM:-0500
TZOFFSETTO:-0400
TZNAME:EDT
DTSTART:20170312T070000
END:DAYLIGHT
BEGIN:STANDARD
TZOFFSETFROM:-0400
TZOFFSETTO:-0500
TZNAME:EST
DTSTART:20171105T060000
END:STANDARD
END:VTIMEZONE
BEGIN:VEVENT
DTSTART;TZID=America/New_York:20160925T180000
DTEND;TZID=America/New_York:20160925T200000
DTSTAMP:20260424T063029
CREATED:20160916T151210Z
LAST-MODIFIED:20160918T202759Z
UID:6469-1474826400-1474833600@www.bgsqd.com
SUMMARY:Are Queers Ageist?
DESCRIPTION:  \nAward winning artist Scottee thinks there’s a problem with ageism within the queer community. Our elders are often invisible\, the older generation think the young queens know nothing about their history and the youngsters think 40 is old.\n  \nScottee is hosting a dinner party discussion without the food and you’re invited. Around the table will sit some old queers and some young queers to share their ideas\, explore where the problem is and ask the burning question – are queers ageist?\n  \nThis discussion is part of the development of a new theatre piece Scottee is creating titled Queen\, supported by AFO theatre. \n  \nscottee.co.uk\n@scotteeisfat\n\n\n \n* Presented in association with Queer New York International\nwww.queerny.org \n  \n\n\n\n\nScottee is an artist from London\, his work is often about outsiderness; race\, sexuality\, class\, age and gender. He creates spaces where the perceived underdog is celebrated\, at the forefront and no longer ignorable. \nHis work has been performed for audiences across the globe; Australia\, Asia\, Europe and America. In London his projects have been presented at some of the worlds leading spaces; Barbican\, Royal Opera House\, Tate Britain\, Roundhouse\, ICA and Southbank Centre but he prefers to make work in dodgy gay bars\, public toilets\, bedrooms\, disused tanning shops and forgotten community centres. \nIn 2010 Scottee won the title of Time Out Performer of the Year\, his debut solo tour \nThe Worst of Scottee won Total Theatre Award for Innovation in 2013 and in 2015 Scottee was included on Independent’s Rainbow List as one of Britain’s most influential LGBTQI+ people. He is currently an associate artist at the Roundhouse and with performance company Duckie. \nScottee is a co-host on BBC Radio 4’s Loose Ends; in 2015 his debut radio documentary My Big Fat Documentary was made BBC Radio 4’s Documentary of the Week. He also writes a weekly column for Vice’s i-D channel. \nScottee is not easily definable; artist\, troublemaker\, loudmouth\, showoff and attention seeker. His work is live\, brash\, clumsy and will often leave you covered in confetti. \n  \n  \n 
URL:https://www.bgsqd.com/event/are-queers-ageist/
LOCATION:NY
ATTACH;FMTTYPE=image/jpeg:https://www.bgsqd.com/wp-content/uploads/2016/09/Scottee-pool-72dpi.jpg
END:VEVENT
END:VCALENDAR