BEGIN:VCALENDAR
VERSION:2.0
PRODID:-//BGSQD - ECPv6.15.20//NONSGML v1.0//EN
CALSCALE:GREGORIAN
METHOD:PUBLISH
X-ORIGINAL-URL:https://www.bgsqd.com
X-WR-CALDESC:Events for BGSQD
REFRESH-INTERVAL;VALUE=DURATION:PT1H
X-Robots-Tag:noindex
X-PUBLISHED-TTL:PT1H
BEGIN:VTIMEZONE
TZID:America/New_York
BEGIN:DAYLIGHT
TZOFFSETFROM:-0500
TZOFFSETTO:-0400
TZNAME:EDT
DTSTART:20150308T070000
END:DAYLIGHT
BEGIN:STANDARD
TZOFFSETFROM:-0400
TZOFFSETTO:-0500
TZNAME:EST
DTSTART:20151101T060000
END:STANDARD
BEGIN:DAYLIGHT
TZOFFSETFROM:-0500
TZOFFSETTO:-0400
TZNAME:EDT
DTSTART:20160313T070000
END:DAYLIGHT
BEGIN:STANDARD
TZOFFSETFROM:-0400
TZOFFSETTO:-0500
TZNAME:EST
DTSTART:20161106T060000
END:STANDARD
BEGIN:DAYLIGHT
TZOFFSETFROM:-0500
TZOFFSETTO:-0400
TZNAME:EDT
DTSTART:20170312T070000
END:DAYLIGHT
BEGIN:STANDARD
TZOFFSETFROM:-0400
TZOFFSETTO:-0500
TZNAME:EST
DTSTART:20171105T060000
END:STANDARD
END:VTIMEZONE
BEGIN:VEVENT
DTSTART;TZID=America/New_York:20160924T190000
DTEND;TZID=America/New_York:20160924T210000
DTSTAMP:20260424T104252
CREATED:20160828T191027Z
LAST-MODIFIED:20160828T191030Z
UID:6371-1474743600-1474750800@www.bgsqd.com
SUMMARY:Book launch for Candyass by Nick Comilla
DESCRIPTION:  \nArsenal Pulp Press and the Bureau present the book launch of CANDYASS\, the debut book by Brooklyn’s Nick Comilla: a coming of age novel about what it means to be young and queer today: “So young\, so contemporary\, so thoughtful and skillful in dissecting the exquisite corpse of gay life today.” —Edmund White; “A queer Casanova travelogue for the modern age that’s both bold and bittersweet.” —Slava Mogutin. \nFeaturing special guest Tommy “Teebs” Pico. \n  \nNick Comilla is a graduate of the Creative Writing program at Concordia University in Montreal\, and completed his MFA in poetry and fiction at The New School in New York. His work has appeared in Lambda Literary\, Poetry Is Dead\, Assaracus\, and elsewhere. Candyass is his first book. He lives in Brooklyn. \n  \nTommy “Teebs” Pico is author of IRL (Birds\, LLC\, 2016)\, Nature Poem (forthcoming 2017 from Tin House Books)\, and the zine series Hey\, Teebs. He was a Queer/Art/Mentors inaugural fellow\, 2013 Lambda Literary fellow in poetry\, 2016 Tin House summer poetry scholar\, and has poems in BOMB\, Guernica\, and the Offing. \n  \n  \n 
URL:https://www.bgsqd.com/event/nick-comilla/
LOCATION:NY
ATTACH;FMTTYPE=image/jpeg:https://www.bgsqd.com/wp-content/uploads/2016/08/Nick-Comilla-Candyass-500.jpg
END:VEVENT
END:VCALENDAR