BEGIN:VCALENDAR
VERSION:2.0
PRODID:-//BGSQD - ECPv6.15.20//NONSGML v1.0//EN
CALSCALE:GREGORIAN
METHOD:PUBLISH
X-WR-CALNAME:BGSQD
X-ORIGINAL-URL:https://www.bgsqd.com
X-WR-CALDESC:Events for BGSQD
REFRESH-INTERVAL;VALUE=DURATION:PT1H
X-Robots-Tag:noindex
X-PUBLISHED-TTL:PT1H
BEGIN:VTIMEZONE
TZID:America/New_York
BEGIN:DAYLIGHT
TZOFFSETFROM:-0500
TZOFFSETTO:-0400
TZNAME:EDT
DTSTART:20150308T070000
END:DAYLIGHT
BEGIN:STANDARD
TZOFFSETFROM:-0400
TZOFFSETTO:-0500
TZNAME:EST
DTSTART:20151101T060000
END:STANDARD
BEGIN:DAYLIGHT
TZOFFSETFROM:-0500
TZOFFSETTO:-0400
TZNAME:EDT
DTSTART:20160313T070000
END:DAYLIGHT
BEGIN:STANDARD
TZOFFSETFROM:-0400
TZOFFSETTO:-0500
TZNAME:EST
DTSTART:20161106T060000
END:STANDARD
BEGIN:DAYLIGHT
TZOFFSETFROM:-0500
TZOFFSETTO:-0400
TZNAME:EDT
DTSTART:20170312T070000
END:DAYLIGHT
BEGIN:STANDARD
TZOFFSETFROM:-0400
TZOFFSETTO:-0500
TZNAME:EST
DTSTART:20171105T060000
END:STANDARD
END:VTIMEZONE
BEGIN:VEVENT
DTSTART;TZID=America/New_York:20160923T190000
DTEND;TZID=America/New_York:20160923T213000
DTSTAMP:20260421T234931
CREATED:20160915T192650Z
LAST-MODIFIED:20160915T192743Z
UID:6466-1474657200-1474666200@www.bgsqd.com
SUMMARY:Bi Visibility Day Open Mic!
DESCRIPTION:  \nBi Writers & Poets\, Musicians & Singers\, Artists & Photographers\, & Comedians: express yourself & be visible! Everyone else is invited to listen in. Bring friends. Themes are bi visibility and celebrating bisexuality\, so be your fierce bi self! Sign up sheet to perform at the door: first come\, first serve. Everyone has 5 minutes. Host Sheela Lambert is director of the Bisexual Book Awards and the Bi Writers Association\, the event sponsors. She is the editor of Best Bi Short Stories\, the only book of bisexual short stories in the world. Best Bi Short Stories got the triple whammy: shortlisted by the Lammys\, Rainbow Book Awards and Bisexual Book Awards. She also runs the Bi Book Club which meets monthly at the Bureau. \nEquipment: If you need anything besides a mic\, contact Sheela at the Bi Writers Assoc. as soon as possible and let me know what equipment you need and why. \nRSVP: Bi Meetup Performers can post a comment about what they’ll perform on Bi Meetup too. \nNote: Our definition of bi or bi+ includes bisexual\, pansexual\, fluid and many other identity words that imply emotional and/or sexual attraction to more than one gender. Questions? Write us. \n@BiBookAwards https://www.facebook.com/biwriters \n  \n  \n  \n 
URL:https://www.bgsqd.com/event/bi-visibility-day-open-mic-16/
LOCATION:NY
ATTACH;FMTTYPE=image/jpeg:https://www.bgsqd.com/wp-content/uploads/2015/09/Bi-Visibility-500.jpg
END:VEVENT
END:VCALENDAR