BEGIN:VCALENDAR
VERSION:2.0
PRODID:-//BGSQD - ECPv6.15.20//NONSGML v1.0//EN
CALSCALE:GREGORIAN
METHOD:PUBLISH
X-ORIGINAL-URL:https://www.bgsqd.com
X-WR-CALDESC:Events for BGSQD
REFRESH-INTERVAL;VALUE=DURATION:PT1H
X-Robots-Tag:noindex
X-PUBLISHED-TTL:PT1H
BEGIN:VTIMEZONE
TZID:America/New_York
BEGIN:DAYLIGHT
TZOFFSETFROM:-0500
TZOFFSETTO:-0400
TZNAME:EDT
DTSTART:20150308T070000
END:DAYLIGHT
BEGIN:STANDARD
TZOFFSETFROM:-0400
TZOFFSETTO:-0500
TZNAME:EST
DTSTART:20151101T060000
END:STANDARD
BEGIN:DAYLIGHT
TZOFFSETFROM:-0500
TZOFFSETTO:-0400
TZNAME:EDT
DTSTART:20160313T070000
END:DAYLIGHT
BEGIN:STANDARD
TZOFFSETFROM:-0400
TZOFFSETTO:-0500
TZNAME:EST
DTSTART:20161106T060000
END:STANDARD
BEGIN:DAYLIGHT
TZOFFSETFROM:-0500
TZOFFSETTO:-0400
TZNAME:EDT
DTSTART:20170312T070000
END:DAYLIGHT
BEGIN:STANDARD
TZOFFSETFROM:-0400
TZOFFSETTO:-0500
TZNAME:EST
DTSTART:20171105T060000
END:STANDARD
END:VTIMEZONE
BEGIN:VEVENT
DTSTART;TZID=America/New_York:20160913T190000
DTEND;TZID=America/New_York:20160913T213000
DTSTAMP:20260422T011342
CREATED:20160905T160021Z
LAST-MODIFIED:20160905T162750Z
UID:6417-1473793200-1473802200@www.bgsqd.com
SUMMARY:Union Square Slam presents the PETTY SLAM
DESCRIPTION:  \nWhat is a petty slam? \nWaiting to Exhale meets Poetic Justice. Eating all the chicken skin off everyone else’s meal. Hoping your ex goes bald from the forehead back. Putting a roach in your sister’s show. \nIn the climate of subtweets from Snapchat to Instagram\, Union Square Slam wants to have a playful night of your most pettiest work. What is defined as petty can be loosely interpreted. \nBring up to three of your pettiest poems!! The winner receives a cash prize!! \nSign-ups start at 7pm\nDraw at 7:45pm\nShow starts at 8pm \n  \n  \n 
URL:https://www.bgsqd.com/event/uss-9-13/
LOCATION:NY
ATTACH;FMTTYPE=image/jpeg:https://www.bgsqd.com/wp-content/uploads/2016/09/USS-9-13.jpg
END:VEVENT
END:VCALENDAR