BEGIN:VCALENDAR
VERSION:2.0
PRODID:-//BGSQD - ECPv6.15.20//NONSGML v1.0//EN
CALSCALE:GREGORIAN
METHOD:PUBLISH
X-WR-CALNAME:BGSQD
X-ORIGINAL-URL:https://www.bgsqd.com
X-WR-CALDESC:Events for BGSQD
REFRESH-INTERVAL;VALUE=DURATION:PT1H
X-Robots-Tag:noindex
X-PUBLISHED-TTL:PT1H
BEGIN:VTIMEZONE
TZID:America/New_York
BEGIN:DAYLIGHT
TZOFFSETFROM:-0500
TZOFFSETTO:-0400
TZNAME:EDT
DTSTART:20150308T070000
END:DAYLIGHT
BEGIN:STANDARD
TZOFFSETFROM:-0400
TZOFFSETTO:-0500
TZNAME:EST
DTSTART:20151101T060000
END:STANDARD
BEGIN:DAYLIGHT
TZOFFSETFROM:-0500
TZOFFSETTO:-0400
TZNAME:EDT
DTSTART:20160313T070000
END:DAYLIGHT
BEGIN:STANDARD
TZOFFSETFROM:-0400
TZOFFSETTO:-0500
TZNAME:EST
DTSTART:20161106T060000
END:STANDARD
BEGIN:DAYLIGHT
TZOFFSETFROM:-0500
TZOFFSETTO:-0400
TZNAME:EDT
DTSTART:20170312T070000
END:DAYLIGHT
BEGIN:STANDARD
TZOFFSETFROM:-0400
TZOFFSETTO:-0500
TZNAME:EST
DTSTART:20171105T060000
END:STANDARD
END:VTIMEZONE
BEGIN:VEVENT
DTSTART;TZID=America/New_York:20160908T183000
DTEND;TZID=America/New_York:20160908T200000
DTSTAMP:20260422T022704
CREATED:20160822T150134Z
LAST-MODIFIED:20160822T150441Z
UID:6356-1473359400-1473364800@www.bgsqd.com
SUMMARY:Bi Book Club discusses Shakespeare's Sonnets (Folger Library edition)
DESCRIPTION:  \nThe Bi Book Club meets on the second Thursday of each month to discuss bi-themed books and the issues they raise. \nDinner after nearby (so far\, we always go to Village Den.)\n  \nShakespeare’s Sonnets tell the story of a bisexual love triangle\, which scholars think was an episode from Shakespeare’s own life. Think bisexuality is new? Let’s read this and discover a piece of our bisexual heritage from more than four centuries ago: the 1590’s. (The Folger Library edition provides an explanation of each sonnet in modern English.) \n  \nCome and join the discussion\, even if you haven’t read the book. We take turns reading passages aloud from the book and discuss them-anyone can participate! \nPlease purchase your copy of Shakespeare’s Sonnets (Folger Library edition) from the Bureau! \nSuggested donation of $5 to benefit the Bureau. No one turned away for lack of funds. \nRSVP on meetup.com (not required) \n  \n  \n  \n 
URL:https://www.bgsqd.com/event/bi-book-club-discusses-shakespeares-sonnets/
LOCATION:NY
ATTACH;FMTTYPE=image/jpeg:https://www.bgsqd.com/wp-content/uploads/2016/08/Shakespeares-Sonnets.jpg
END:VEVENT
END:VCALENDAR