BEGIN:VCALENDAR
VERSION:2.0
PRODID:-//BGSQD - ECPv6.15.20//NONSGML v1.0//EN
CALSCALE:GREGORIAN
METHOD:PUBLISH
X-ORIGINAL-URL:https://www.bgsqd.com
X-WR-CALDESC:Events for BGSQD
REFRESH-INTERVAL;VALUE=DURATION:PT1H
X-Robots-Tag:noindex
X-PUBLISHED-TTL:PT1H
BEGIN:VTIMEZONE
TZID:America/New_York
BEGIN:DAYLIGHT
TZOFFSETFROM:-0500
TZOFFSETTO:-0400
TZNAME:EDT
DTSTART:20150308T070000
END:DAYLIGHT
BEGIN:STANDARD
TZOFFSETFROM:-0400
TZOFFSETTO:-0500
TZNAME:EST
DTSTART:20151101T060000
END:STANDARD
BEGIN:DAYLIGHT
TZOFFSETFROM:-0500
TZOFFSETTO:-0400
TZNAME:EDT
DTSTART:20160313T070000
END:DAYLIGHT
BEGIN:STANDARD
TZOFFSETFROM:-0400
TZOFFSETTO:-0500
TZNAME:EST
DTSTART:20161106T060000
END:STANDARD
BEGIN:DAYLIGHT
TZOFFSETFROM:-0500
TZOFFSETTO:-0400
TZNAME:EDT
DTSTART:20170312T070000
END:DAYLIGHT
BEGIN:STANDARD
TZOFFSETFROM:-0400
TZOFFSETTO:-0500
TZNAME:EST
DTSTART:20171105T060000
END:STANDARD
END:VTIMEZONE
BEGIN:VEVENT
DTSTART;TZID=America/New_York:20160830T190000
DTEND;TZID=America/New_York:20160830T213000
DTSTAMP:20260421T233141
CREATED:20160822T151551Z
LAST-MODIFIED:20160822T151619Z
UID:6359-1472583600-1472592600@www.bgsqd.com
SUMMARY:Union Square Slam presents Adam Melchor
DESCRIPTION:  \nJoin Union Square Slam for our inaugural MUSIC NIGHT!! Mark your calendars: the last Tuesday of every month will feature a local musical performer. And we’re beyond thrilled to open this series with the ever-talented\, ever-charming … Adam Melchor! \n6:00pm: Free Workshop with I.S. Jones\n7:30pm: Sign-ups and Socialize\n8:00pm: Open Mic\n8:45pm: Adam Melchor \nAll Ages // Wheelchair Accessible\nOpen Mic // $5 \nAbout our Feature: \nAdam Melchor is a songsmith hailing from Northern New Jersey. Christine Bochicchio of the Aquarian Weekly writes “Adam Melchor’s angelic vocals and poetic lyrics make him an act that deserves to be heard” after giving him 5 out of 5 stars on his debut EP. \nThe singer/songwriter has gained the attention of NYU’s Songwriting Program\, MTV’s “Streamed Dumplings” and The Aquarian Weekly Magazine. He is an avid performer in clubs around the Tri-State area\, holding residency at The Bowery Electric in NYC and Grimaldi’s in Hoboken. \nFor more about Adam: adammelchor.com \n  \n  \n  \n  \n 
URL:https://www.bgsqd.com/event/union-square-slam-presents-adam-melchor/
LOCATION:NY
ATTACH;FMTTYPE=image/jpeg:https://www.bgsqd.com/wp-content/uploads/2016/08/USS-Aug-30.jpg
END:VEVENT
END:VCALENDAR