BEGIN:VCALENDAR
VERSION:2.0
PRODID:-//BGSQD - ECPv6.15.20//NONSGML v1.0//EN
CALSCALE:GREGORIAN
METHOD:PUBLISH
X-WR-CALNAME:BGSQD
X-ORIGINAL-URL:https://www.bgsqd.com
X-WR-CALDESC:Events for BGSQD
REFRESH-INTERVAL;VALUE=DURATION:PT1H
X-Robots-Tag:noindex
X-PUBLISHED-TTL:PT1H
BEGIN:VTIMEZONE
TZID:America/New_York
BEGIN:DAYLIGHT
TZOFFSETFROM:-0500
TZOFFSETTO:-0400
TZNAME:EDT
DTSTART:20150308T070000
END:DAYLIGHT
BEGIN:STANDARD
TZOFFSETFROM:-0400
TZOFFSETTO:-0500
TZNAME:EST
DTSTART:20151101T060000
END:STANDARD
BEGIN:DAYLIGHT
TZOFFSETFROM:-0500
TZOFFSETTO:-0400
TZNAME:EDT
DTSTART:20160313T070000
END:DAYLIGHT
BEGIN:STANDARD
TZOFFSETFROM:-0400
TZOFFSETTO:-0500
TZNAME:EST
DTSTART:20161106T060000
END:STANDARD
BEGIN:DAYLIGHT
TZOFFSETFROM:-0500
TZOFFSETTO:-0400
TZNAME:EDT
DTSTART:20170312T070000
END:DAYLIGHT
BEGIN:STANDARD
TZOFFSETFROM:-0400
TZOFFSETTO:-0500
TZNAME:EST
DTSTART:20171105T060000
END:STANDARD
END:VTIMEZONE
BEGIN:VEVENT
DTSTART;TZID=America/New_York:20160816T190000
DTEND;TZID=America/New_York:20160816T213000
DTSTAMP:20260421T221119
CREATED:20160801T152848Z
LAST-MODIFIED:20160801T152848Z
UID:6323-1471374000-1471383000@www.bgsqd.com
SUMMARY:Union Square Presents Our FIRST EVER NERD SLAM!
DESCRIPTION:  \nUnion Square Presents Our FIRST EVER NERD SLAM! \nAbout our Show:\n6pm: Free Writing Workshop\n7pm: Sign-Ups and Socialize\n7:30pm: Open MIC\n8:00pm: Nerd Slam \nAll Ages // $5 \nA nerd slam is when two poets are randomly selected to go head to head in a trivia battle\, answering questions that are specifically chosen from a panel of nerds about the topic of the poets’ choice. Whoever wins gets to read their nerdy poem and the other poet goes back into the selection pool for the next battle. Come show off your nerd related knowledge and just have fun! \nThe Nerd Slam will be hosted by Justin Woo and the panel will include him as well as Khadijah Johnson\, Rachel Simons\, and Jaime Martin. Cosplay and nerd apparel is very much encouraged. \n  \n  \n 
URL:https://www.bgsqd.com/event/union-square-slam-nerd-slam/
LOCATION:NY
ATTACH;FMTTYPE=image/jpeg:https://www.bgsqd.com/wp-content/uploads/2016/08/USS-Nerd-Slam.jpg
END:VEVENT
END:VCALENDAR