BEGIN:VCALENDAR
VERSION:2.0
PRODID:-//BGSQD - ECPv6.15.20//NONSGML v1.0//EN
CALSCALE:GREGORIAN
METHOD:PUBLISH
X-ORIGINAL-URL:https://www.bgsqd.com
X-WR-CALDESC:Events for BGSQD
REFRESH-INTERVAL;VALUE=DURATION:PT1H
X-Robots-Tag:noindex
X-PUBLISHED-TTL:PT1H
BEGIN:VTIMEZONE
TZID:America/New_York
BEGIN:DAYLIGHT
TZOFFSETFROM:-0500
TZOFFSETTO:-0400
TZNAME:EDT
DTSTART:20150308T070000
END:DAYLIGHT
BEGIN:STANDARD
TZOFFSETFROM:-0400
TZOFFSETTO:-0500
TZNAME:EST
DTSTART:20151101T060000
END:STANDARD
BEGIN:DAYLIGHT
TZOFFSETFROM:-0500
TZOFFSETTO:-0400
TZNAME:EDT
DTSTART:20160313T070000
END:DAYLIGHT
BEGIN:STANDARD
TZOFFSETFROM:-0400
TZOFFSETTO:-0500
TZNAME:EST
DTSTART:20161106T060000
END:STANDARD
BEGIN:DAYLIGHT
TZOFFSETFROM:-0500
TZOFFSETTO:-0400
TZNAME:EDT
DTSTART:20170312T070000
END:DAYLIGHT
BEGIN:STANDARD
TZOFFSETFROM:-0400
TZOFFSETTO:-0500
TZNAME:EST
DTSTART:20171105T060000
END:STANDARD
END:VTIMEZONE
BEGIN:VEVENT
DTSTART;TZID=America/New_York:20160812T190000
DTEND;TZID=America/New_York:20160812T213000
DTSTAMP:20260421T221313
CREATED:20160725T181447Z
LAST-MODIFIED:20160725T181447Z
UID:6290-1471028400-1471037400@www.bgsqd.com
SUMMARY:TELL 26: Food
DESCRIPTION:  \nTELL is an evening of story telling from the mouths and minds of queers in NYC hosted by Drae Campbell at the Bureau of General Services—Queer Division since February 2014. \nFood is the theme of the twenty-sixth installment of TELL. Featuring Jax Jackson\, Mikéah Ernest Jennings\, Lissy Navantu\, and Randi Reinhold. \n  \n$10 suggested donation – no one turned away for lack of funds \n  \n \nDrae Campbell is a writer\, actor\, director\, story teller\, dancer\, and nightlife emcee. Drae has been featured on Late Night with Conan O’Brien and on stages all over NYC. Drae’s directing work has appeared in Iceland\, NYC\, Budapest and in the San Francisco Fringe Festival. The short film Drae wrote and starred in with Rebecca Drysdale\, YOU MOVE ME won the Audience Award for Outstanding Narrative Short at OUTFEST 2010 and has been shown in festivals globally. Drae won the grand prize at the first annual San Miguel De Allende Storytelling Festival in Mexico. She once reigned as Miss LEZ and also got dubbed “the next lezzie comedian on the block” by AfterEllen.com for her comedic stylings on the interwebs. Campbell hosts and curates a monthly queer storytelling show called TELL at BGSQD. Check her out online!  www.draecampbell.com. \n  \n  \n \nJax Jackson is an agender transsexual actor and healing artist in NYC. Jax has very little experience storytelling and has no idea what to put in a bio for this event\, because usually bios for actors are long boring lists of credits with no context or interesting points of fact along the way. So Jax is just kinda rambling. If you need an actor\, a yoga teacher\, a reiki practitioner\, a tarot reader\, an astrologer\, or a crystal consultant\, you could check out Jax’s work at jaxjackson.com or embodiedhealing.nyc. Or like\, just talk to Jax or something. \n  \n \nMikéah Ernest Jennings is a performer and acting educator from the Mojave Desert living and working in New York City. Mikéah has been acting and creating contemporary performance for over 15yrs and is also an adjunct faculty member in the theater departments at Massachusetts Institute of Technology and The New School for Social Research. He is also a drinker of gin…very cheap gin. \n  \n \nLissy Navantu is a Thai\, femme activist. She is a social worker by day\, failed romantic at night. Through collaboration with Theatre of the Oppressed NYC\, this past spring she toured the city with 10 LGBTQ youth\, exposing the realities of homelessness in NYC (see: https://www.youtube.com/watch?v=YIroT2qZ3Wo). As a true to heart masochist\, Lissy finds joy in sharing her awkward social interactions with a keen audience. Lissy holds a Master’s Degree in Social Work from NYU and has two self-published zines: “How to Double Your Number in Six Months” and “Mai Thai: Reflections on Consuming Thailand”. \n  \n \nRandi Reinhold is a Queer\, Trans* masculine-of-center identified person who loves to make people laugh and feel good.  His day job as a kindergarten teacher supplies him with a huge amount of storytelling fodder.  As a volunteer for the Trevor Project\, Randi also spends time supporting LGBTQI teens in crisis across the country.  He’s dabbled in open-mic stand up and enjoys learning 80s cover songs on his acoustic guitar.  His hobbies include running\, bird watching\, singing karaoke\, geometric drawing\, drinking red wine\, coffee\, and red wine. \n  \n  \n  \n  \n 
URL:https://www.bgsqd.com/event/tell-26-food/
LOCATION:Online event\, New York\, NY\, United States
ATTACH;FMTTYPE=image/jpeg:https://www.bgsqd.com/wp-content/uploads/2016/07/TELL-26-Food.jpg
ORGANIZER;CN="Bureau of General Services%E2%80%94Queer Division":MAILTO:contact@bgsqd.com
END:VEVENT
END:VCALENDAR