BEGIN:VCALENDAR
VERSION:2.0
PRODID:-//BGSQD - ECPv6.15.20//NONSGML v1.0//EN
CALSCALE:GREGORIAN
METHOD:PUBLISH
X-WR-CALNAME:BGSQD
X-ORIGINAL-URL:https://www.bgsqd.com
X-WR-CALDESC:Events for BGSQD
REFRESH-INTERVAL;VALUE=DURATION:PT1H
X-Robots-Tag:noindex
X-PUBLISHED-TTL:PT1H
BEGIN:VTIMEZONE
TZID:America/New_York
BEGIN:DAYLIGHT
TZOFFSETFROM:-0500
TZOFFSETTO:-0400
TZNAME:EDT
DTSTART:20150308T070000
END:DAYLIGHT
BEGIN:STANDARD
TZOFFSETFROM:-0400
TZOFFSETTO:-0500
TZNAME:EST
DTSTART:20151101T060000
END:STANDARD
BEGIN:DAYLIGHT
TZOFFSETFROM:-0500
TZOFFSETTO:-0400
TZNAME:EDT
DTSTART:20160313T070000
END:DAYLIGHT
BEGIN:STANDARD
TZOFFSETFROM:-0400
TZOFFSETTO:-0500
TZNAME:EST
DTSTART:20161106T060000
END:STANDARD
BEGIN:DAYLIGHT
TZOFFSETFROM:-0500
TZOFFSETTO:-0400
TZNAME:EDT
DTSTART:20170312T070000
END:DAYLIGHT
BEGIN:STANDARD
TZOFFSETFROM:-0400
TZOFFSETTO:-0500
TZNAME:EST
DTSTART:20171105T060000
END:STANDARD
END:VTIMEZONE
BEGIN:VEVENT
DTSTART;TZID=America/New_York:20160811T183000
DTEND;TZID=America/New_York:20160811T200000
DTSTAMP:20260421T205220
CREATED:20160801T150510Z
LAST-MODIFIED:20160801T150510Z
UID:6318-1470940200-1470945600@www.bgsqd.com
SUMMARY:Bi Book Club discusses The Life and Death of Sophie Stark by Anna North
DESCRIPTION:  \nThe Bi Book Club meets on the second Thursday of each month to discuss bi-themed books and the issues they raise. \nDinner after nearby (so far\, we always go to Village Den.) \nOn August 11\, the Bi Book Club will discuss The Life and Death of Sophie Stark by Anna North. \nCome and join the discussion\, even if you haven’t read the book. We take turns reading passages aloud from the book and discuss them-anyone can participate! \nPlease purchase your copy of The Life and Death of Sophie Stark from the Bureau! \nSuggested donation of $5 to benefit the Bureau. No one turned away for lack of funds. \nRSVP on meetup.com (not required) \n  \n  \n  \n 
URL:https://www.bgsqd.com/event/bi-book-club-discusses-life-and-death-of-sophie-stark/
LOCATION:NY
ATTACH;FMTTYPE=image/jpeg:https://www.bgsqd.com/wp-content/uploads/2016/08/Sophie-Stark.jpg
END:VEVENT
END:VCALENDAR