BEGIN:VCALENDAR
VERSION:2.0
PRODID:-//BGSQD - ECPv6.15.20//NONSGML v1.0//EN
CALSCALE:GREGORIAN
METHOD:PUBLISH
X-ORIGINAL-URL:https://www.bgsqd.com
X-WR-CALDESC:Events for BGSQD
REFRESH-INTERVAL;VALUE=DURATION:PT1H
X-Robots-Tag:noindex
X-PUBLISHED-TTL:PT1H
BEGIN:VTIMEZONE
TZID:America/New_York
BEGIN:DAYLIGHT
TZOFFSETFROM:-0500
TZOFFSETTO:-0400
TZNAME:EDT
DTSTART:20150308T070000
END:DAYLIGHT
BEGIN:STANDARD
TZOFFSETFROM:-0400
TZOFFSETTO:-0500
TZNAME:EST
DTSTART:20151101T060000
END:STANDARD
BEGIN:DAYLIGHT
TZOFFSETFROM:-0500
TZOFFSETTO:-0400
TZNAME:EDT
DTSTART:20160313T070000
END:DAYLIGHT
BEGIN:STANDARD
TZOFFSETFROM:-0400
TZOFFSETTO:-0500
TZNAME:EST
DTSTART:20161106T060000
END:STANDARD
BEGIN:DAYLIGHT
TZOFFSETFROM:-0500
TZOFFSETTO:-0400
TZNAME:EDT
DTSTART:20170312T070000
END:DAYLIGHT
BEGIN:STANDARD
TZOFFSETFROM:-0400
TZOFFSETTO:-0500
TZNAME:EST
DTSTART:20171105T060000
END:STANDARD
END:VTIMEZONE
BEGIN:VEVENT
DTSTART;TZID=America/New_York:20160809T190000
DTEND;TZID=America/New_York:20160809T213000
DTSTAMP:20260421T223718
CREATED:20160801T151425Z
LAST-MODIFIED:20160801T152208Z
UID:6320-1470769200-1470778200@www.bgsqd.com
SUMMARY:Union Square Slam presents an evening with Brooklyn Poets
DESCRIPTION:  \nUnion Square Slam is excited for our Summer reading series\, featuring an extended open mic and a phenom featured artist. \nWe have been committed to exposing all the poetry this city has to offer. We want communities to merge and form into bigger communities. For this show we are happy to have the great literary organization Brooklyn Poets. \n  \nBrooklyn Poets is a 501(c)(3) nonprofit organization celebrating and cultivating the poets\, poetry and literary heritage of Brooklyn\, the birthplace of American poetry. Since our inception in 2012\, our core program of small\, intensive poetry workshops taught by award-winning poets in their own homes has served over 300 students and employed over 30 teachers\, and we’ve grown to host 22 events per year attracting over 1000 attendees annually\, fostering a more close-knit\, homegrown\, diverse community of poets and readers than what we see traditionally offered by graduate writing programs and the American literary community at large. Our community extends through The Bridge\, a unique online network connecting poets and mentors throughout the world. \n  \nClick here for more about Brooklyn Poets\n  \n6;00pm: Free Workshop with I.S. Jones\n7:30pm: Sign-ups and Socialize\n8:00pm: Open Mic\n8:45pm: Brooklyn Poets \nAll Ages // Wheelchair Accessible\nOpen Mic // $5\n  \nAbout our Features:\n  \nCandace Williams is a Brooklyn Poets Fellow and her work has appeared or is forthcoming in Sixth Finch\, Bennington Review\, Lambda Literary Review\, Copper Nickel\, and elsewhere. She earned her MA in Elementary Education at Stanford University and has taken workshops at Cave Canem and Brooklyn Poets. She lives with a pit bull named Madonna and tweets a little too often (@TeacherC).\n  \nJonathan Clarence is a performance poet and actor living in Brooklyn. The Wisconsin native has appeared in Lime Hawk Journal. He recently completed his undergraduate in advertising at St. John’s University in NYC and is currently a freelance writer for thisismelo.com. With a desire to write poetry and fiction about overcoming oppression\, emotional trauma and discrimination of all types from all backgrounds\, he’s found his poetic voice and is developing a manuscript.\n  \nJason Koo\, named one of the “100 Most Influential People in Brooklyn Culture” by Brooklyn Magazine\, Jason Koo is the author of two collections of poetry\, America’s Favorite Poem and Man on Extremely Small Island. He is also the editor of Poems for Kobe\, a private limited edition of poems presented as a retirement gift to Kobe Bryant by the Brooklyn Nets and Brooklyn Poets\, and coeditor of the forthcoming Bettering American Poetry anthology and Brooklyn Poets Anthology. An assistant teaching professor of English at Quinnipiac University\, Koo is the founder and executive director of Brooklyn Poets and creator of the Bridge. He lives in Brooklyn. \n  \n  \n  \n 
URL:https://www.bgsqd.com/event/union-square-slam-presents-brooklyn-poets/
LOCATION:NY
ATTACH;FMTTYPE=image/jpeg:https://www.bgsqd.com/wp-content/uploads/2016/08/Brooklyn-Poets.jpg
END:VEVENT
END:VCALENDAR