BEGIN:VCALENDAR
VERSION:2.0
PRODID:-//BGSQD - ECPv6.15.20//NONSGML v1.0//EN
CALSCALE:GREGORIAN
METHOD:PUBLISH
X-WR-CALNAME:BGSQD
X-ORIGINAL-URL:https://www.bgsqd.com
X-WR-CALDESC:Events for BGSQD
REFRESH-INTERVAL;VALUE=DURATION:PT1H
X-Robots-Tag:noindex
X-PUBLISHED-TTL:PT1H
BEGIN:VTIMEZONE
TZID:America/New_York
BEGIN:DAYLIGHT
TZOFFSETFROM:-0500
TZOFFSETTO:-0400
TZNAME:EDT
DTSTART:20150308T070000
END:DAYLIGHT
BEGIN:STANDARD
TZOFFSETFROM:-0400
TZOFFSETTO:-0500
TZNAME:EST
DTSTART:20151101T060000
END:STANDARD
BEGIN:DAYLIGHT
TZOFFSETFROM:-0500
TZOFFSETTO:-0400
TZNAME:EDT
DTSTART:20160313T070000
END:DAYLIGHT
BEGIN:STANDARD
TZOFFSETFROM:-0400
TZOFFSETTO:-0500
TZNAME:EST
DTSTART:20161106T060000
END:STANDARD
BEGIN:DAYLIGHT
TZOFFSETFROM:-0500
TZOFFSETTO:-0400
TZNAME:EDT
DTSTART:20170312T070000
END:DAYLIGHT
BEGIN:STANDARD
TZOFFSETFROM:-0400
TZOFFSETTO:-0500
TZNAME:EST
DTSTART:20171105T060000
END:STANDARD
END:VTIMEZONE
BEGIN:VEVENT
DTSTART;TZID=America/New_York:20160804T190000
DTEND;TZID=America/New_York:20160804T210000
DTSTAMP:20260421T193429
CREATED:20160717T164321Z
LAST-MODIFIED:20160717T164414Z
UID:6272-1470337200-1470344400@www.bgsqd.com
SUMMARY:Reading by Victoria Noe from her new book Friend Grief and Men: Defying Stereotypes
DESCRIPTION:  \nAuthor Victoria Noe returns to the Bureau to read from her new book Friend Grief and Men: Defying Stereotypes. \nHow do grief and friendships affect what it means to “be a man”? The final book in her series about people grieving the death of a friend examines the belief that men grieve differently than women – in fact\, that their friendships are less meaningful than women’s. \nHer interviews with gay and straight men will challenge that stereotype. The men profiled range in age from their 20’s to late 80’s. They include a sports reporter\, writers\, actor-turned-rabbi\, sound editor and professional hockey player. All struggled to make sense of their grief\, none more so than those in the book’s most talked-about chapter: comparing military veterans and long-term survivors in the AIDS community. \nJoining Victoria is fellow ACT UP/NY member Jim Eigo\, one of the men profiled in the book. You can count on a lively discussion about the challenges facing men who grieve the death of a best friend or dozens of friends\, and how you can help them. \n  \n \nVictoria Noe lives in Chicago but is frequently in New York for research\, theatre and addiction to the chai scones at Bosie Tea Parlor. The six books in her Friend Grief series (including Friend Grief and AIDS: Thirty Years of Burying Our Friends) have won awards and fans in the US\, UK and Canada. Library Journal named her their first SELF-e Ambassador\, helping libraries and independent authors collaborate.\n \nHer essay\, “Long-Term Survivor” won A&U Magazine’s 2015 Christopher Hewitt Award for Creative Nonfiction\, and her work has appeared on a variety of blogs as well as Positively Aware\, Chicago Tribune\, Huffington Post and Windy City Times. A fundraiser in the AIDS community in Chicago in the early days of the epidemic\, she’s now a member of ACT UP/NY. Her next book is Fag Hags\, Divas and Moms: The Legacy of Straight Women in the AIDS Community (2017). \n  \n  \n  \n 
URL:https://www.bgsqd.com/event/reading-by-victoria-noe/
LOCATION:NY
ATTACH;FMTTYPE=image/jpeg:https://www.bgsqd.com/wp-content/uploads/2016/07/FriendGriefandMenFRONTfnl.jpg
END:VEVENT
END:VCALENDAR