BEGIN:VCALENDAR
VERSION:2.0
PRODID:-//BGSQD - ECPv6.15.20//NONSGML v1.0//EN
CALSCALE:GREGORIAN
METHOD:PUBLISH
X-ORIGINAL-URL:https://www.bgsqd.com
X-WR-CALDESC:Events for BGSQD
REFRESH-INTERVAL;VALUE=DURATION:PT1H
X-Robots-Tag:noindex
X-PUBLISHED-TTL:PT1H
BEGIN:VTIMEZONE
TZID:America/New_York
BEGIN:DAYLIGHT
TZOFFSETFROM:-0500
TZOFFSETTO:-0400
TZNAME:EDT
DTSTART:20150308T070000
END:DAYLIGHT
BEGIN:STANDARD
TZOFFSETFROM:-0400
TZOFFSETTO:-0500
TZNAME:EST
DTSTART:20151101T060000
END:STANDARD
BEGIN:DAYLIGHT
TZOFFSETFROM:-0500
TZOFFSETTO:-0400
TZNAME:EDT
DTSTART:20160313T070000
END:DAYLIGHT
BEGIN:STANDARD
TZOFFSETFROM:-0400
TZOFFSETTO:-0500
TZNAME:EST
DTSTART:20161106T060000
END:STANDARD
BEGIN:DAYLIGHT
TZOFFSETFROM:-0500
TZOFFSETTO:-0400
TZNAME:EDT
DTSTART:20170312T070000
END:DAYLIGHT
BEGIN:STANDARD
TZOFFSETFROM:-0400
TZOFFSETTO:-0500
TZNAME:EST
DTSTART:20171105T060000
END:STANDARD
END:VTIMEZONE
BEGIN:VEVENT
DTSTART;TZID=America/New_York:20160728T190000
DTEND;TZID=America/New_York:20160728T210000
DTSTAMP:20260421T193601
CREATED:20160603T184812Z
LAST-MODIFIED:20160603T184918Z
UID:6172-1469732400-1469739600@www.bgsqd.com
SUMMARY:Emanuel Xavier Radiance & Sam Sax All The Rage Official Book Readings & Signings
DESCRIPTION:  \nJoin us for the launch of Emanuel Xavier‘s Radiance & Sam Sax‘s All The Rage. \n  \n“Emanuel Xavier’s newest book radiates in diverse directions\, back into a past of New York club kid glamour and violence\, into a family history of lost connections\, and into loves forfeited and found-all of which the poet illumines with steady-eyed honesty. Finally\, as he confronts a health challenge to the very brain that is the root-place of these sharp and poignant poems\, radiation becomes radiance\, a hard-won inner light that lets us all see how ‘splendid is our survival.'” –David Groff\, author of Clay \n  \nIn All the Rage\, Sam Sax turns the poetry of observation into weapon of prayer and resurrection. Here is the eroticism and anger of bearing witness. Here the dead walk again\, sometimes right over us\, sometimes right through us. Here are open wounds wet with the spit of old lovers and old versions of ourselves\, raw\, hungry\, and unwilling to let us forget what we’ve seen. \n  \n  \n 
URL:https://www.bgsqd.com/event/emanuel-xavier-radiance-sam-sax-all-the-rage-official-book-readings-signings/
LOCATION:NY
ATTACH;FMTTYPE=image/jpeg:https://www.bgsqd.com/wp-content/uploads/2016/06/Xavier-Sax-final.jpg
END:VEVENT
END:VCALENDAR