BEGIN:VCALENDAR
VERSION:2.0
PRODID:-//BGSQD - ECPv6.15.20//NONSGML v1.0//EN
CALSCALE:GREGORIAN
METHOD:PUBLISH
X-ORIGINAL-URL:https://www.bgsqd.com
X-WR-CALDESC:Events for BGSQD
REFRESH-INTERVAL;VALUE=DURATION:PT1H
X-Robots-Tag:noindex
X-PUBLISHED-TTL:PT1H
BEGIN:VTIMEZONE
TZID:America/New_York
BEGIN:DAYLIGHT
TZOFFSETFROM:-0500
TZOFFSETTO:-0400
TZNAME:EDT
DTSTART:20150308T070000
END:DAYLIGHT
BEGIN:STANDARD
TZOFFSETFROM:-0400
TZOFFSETTO:-0500
TZNAME:EST
DTSTART:20151101T060000
END:STANDARD
BEGIN:DAYLIGHT
TZOFFSETFROM:-0500
TZOFFSETTO:-0400
TZNAME:EDT
DTSTART:20160313T070000
END:DAYLIGHT
BEGIN:STANDARD
TZOFFSETFROM:-0400
TZOFFSETTO:-0500
TZNAME:EST
DTSTART:20161106T060000
END:STANDARD
BEGIN:DAYLIGHT
TZOFFSETFROM:-0500
TZOFFSETTO:-0400
TZNAME:EDT
DTSTART:20170312T070000
END:DAYLIGHT
BEGIN:STANDARD
TZOFFSETFROM:-0400
TZOFFSETTO:-0500
TZNAME:EST
DTSTART:20171105T060000
END:STANDARD
END:VTIMEZONE
BEGIN:VEVENT
DTSTART;TZID=America/New_York:20160719T190000
DTEND;TZID=America/New_York:20160719T213000
DTSTAMP:20260421T204514
CREATED:20160711T120917Z
LAST-MODIFIED:20160711T120917Z
UID:6260-1468954800-1468963800@www.bgsqd.com
SUMMARY:Union Square Slam presents the USS Nationals Team Send-Off and Fundraiser
DESCRIPTION:  \nThe National Poetry Slam is right around the corner! Come celebrate and get a sneak peak at all the hard work the team has put in this summer\, and pick up some sweet treats and a copy of the team’s limited edition chapbook!! \n7pm: Sign-Up and Socialize\n8pm: Open Mic\n9pm: The USS National Team: Kearah Armonie\, Patrick Roche\, Nkosi Nkululeko\, and Taylor Steele \nEntry: $5\nChapbook: $20 ($15 with paid entry fee)\nCookies: $3\, 2 for $5 \nMade by our lovely volunteer Theo!! Choose from the following:\n– Chocolate Chip\n– Rosemary Ginger w/ White Chocolate Chips\n– Honey Jack Lemon\n– Peanut Butter\n– Apple Oatmeal \nMeet the Team: \nNkosi Nkululeko is the 2016 NYC Youth Poet Laureate\, and a Callaloo Fellow. He has been nominated for the Independent Best American Poetry and The Pushcart Prize. He was a member of the 2015 Urbana Slam Team and currently on the 2016 Union Square Slam Team. Nkosi”s work is published in VINYLpoetryandprose\, No Token\, decomP\, and elsewhere. He lives in Harlem\, New York. \nTaylor Steele is a Bronx-born\, Brooklyn-based writer and performer. Her work can be found at such esteemed publications as Apogee Journal\, HEArt Journal\, Rogue Agent\, Blackberry Magazine\, The Body is Not an Apology\, and many forthcoming. Her chapbook Dirty.Mouth.Kiss will be available Fall 2016 on Pizza Pi Press. She is a triple-Taurus who believes in the power of art to change\, shape\, and heal. \nKearah-Armonie (Kearmonie) is a Brooklyn based poet\, spoken word artist\, MC\, Filmmaker\, Blogger\, and Writer. She currently finishing up her B.A. in Documentary Film Production at Brooklyn College. Having been performing spoken word since 2011\, she is now a mentor and teaching artist. \nPatrick Roche is a New Jersey-based writer and performer who graduated from Princeton University. He has competed or featured at multiple national competitions\, events\, and universities around the country. His work has been featured on Button Poetry\, SlamFind\, UpWorthy\, The Huffington Post\, Buzzfeed\, and others\, accumulating over 6 million views. \n 
URL:https://www.bgsqd.com/event/union-square-slam-nationals-send-off/
LOCATION:NY
ATTACH;FMTTYPE=image/jpeg:https://www.bgsqd.com/wp-content/uploads/2016/07/USS-National-Team.jpg
END:VEVENT
END:VCALENDAR