BEGIN:VCALENDAR
VERSION:2.0
PRODID:-//BGSQD - ECPv6.15.20//NONSGML v1.0//EN
CALSCALE:GREGORIAN
METHOD:PUBLISH
X-ORIGINAL-URL:https://www.bgsqd.com
X-WR-CALDESC:Events for BGSQD
REFRESH-INTERVAL;VALUE=DURATION:PT1H
X-Robots-Tag:noindex
X-PUBLISHED-TTL:PT1H
BEGIN:VTIMEZONE
TZID:America/New_York
BEGIN:DAYLIGHT
TZOFFSETFROM:-0500
TZOFFSETTO:-0400
TZNAME:EDT
DTSTART:20150308T070000
END:DAYLIGHT
BEGIN:STANDARD
TZOFFSETFROM:-0400
TZOFFSETTO:-0500
TZNAME:EST
DTSTART:20151101T060000
END:STANDARD
BEGIN:DAYLIGHT
TZOFFSETFROM:-0500
TZOFFSETTO:-0400
TZNAME:EDT
DTSTART:20160313T070000
END:DAYLIGHT
BEGIN:STANDARD
TZOFFSETFROM:-0400
TZOFFSETTO:-0500
TZNAME:EST
DTSTART:20161106T060000
END:STANDARD
BEGIN:DAYLIGHT
TZOFFSETFROM:-0500
TZOFFSETTO:-0400
TZNAME:EDT
DTSTART:20170312T070000
END:DAYLIGHT
BEGIN:STANDARD
TZOFFSETFROM:-0400
TZOFFSETTO:-0500
TZNAME:EST
DTSTART:20171105T060000
END:STANDARD
END:VTIMEZONE
BEGIN:VEVENT
DTSTART;TZID=America/New_York:20160706T200000
DTEND;TZID=America/New_York:20160706T213000
DTSTAMP:20260421T194000
CREATED:20160506T163458Z
LAST-MODIFIED:20160706T175559Z
UID:6106-1467835200-1467840600@www.bgsqd.com
SUMMARY:CANCELED! 20Something Monthly Manhattan Meetup
DESCRIPTION:  \nTonight’s meeting has been canceled. Stay tuned for announcement about the next 20Something Meetup. \nIf you are new to the city\, recently out\, just looking for friends\, or whatever experiences brought you to us – we offer a safe space where we can mingle and talk about our experiences as an LGBT person in New York City. We hold our meetings on the second Wednesday of every month from 8-10 PM at the Bureau of General Services—Queer Division. We recommend this 20Something Meetup to anyone who is looking for a more casual space to explore their sexual/gender identity. There will be light refreshments. Bring friends! \nSuggested donation of $5 to benefit the Bureau and 20Something. No one turned away for lack of funds. \n20Something is the largest social events organization for young lesbian\, gay\, bisexual\, and transgender people in New York City\, aged 21 to 30. We hold a monthly social\, and two monthly icebreaker/discussion groups at the Brooklyn Pride Center and at the Bureau of General Services—Queer Division\, the queer cultural center and bookstore on the second floor of The LGBT Community Center\, in Manhattan. With more than 2\,500 members\, we engage young adults across all 5 boroughs with a safe\, confidential\, and respectful platform to meet other LGBT folk. Many of our members have made long lasting friendships\, relationships\, and have been connected to important LGBT services and resources. Whether you are new to the city\, recently out\, or just looking to make friends – 20Something offers a space for you to pave the way to your own adventures in New York City – and make living here a little easier. Become a member: meetup.com/20SomethingNYC \n  \n 
URL:https://www.bgsqd.com/event/20something-july-6/
LOCATION:NY
ATTACH;FMTTYPE=image/jpeg:https://www.bgsqd.com/wp-content/uploads/2015/09/2015-Logo-Twentysomethings-400x400.jpg
END:VEVENT
END:VCALENDAR