BEGIN:VCALENDAR
VERSION:2.0
PRODID:-//BGSQD - ECPv6.15.20//NONSGML v1.0//EN
CALSCALE:GREGORIAN
METHOD:PUBLISH
X-WR-CALNAME:BGSQD
X-ORIGINAL-URL:https://www.bgsqd.com
X-WR-CALDESC:Events for BGSQD
REFRESH-INTERVAL;VALUE=DURATION:PT1H
X-Robots-Tag:noindex
X-PUBLISHED-TTL:PT1H
BEGIN:VTIMEZONE
TZID:America/New_York
BEGIN:DAYLIGHT
TZOFFSETFROM:-0500
TZOFFSETTO:-0400
TZNAME:EDT
DTSTART:20150308T070000
END:DAYLIGHT
BEGIN:STANDARD
TZOFFSETFROM:-0400
TZOFFSETTO:-0500
TZNAME:EST
DTSTART:20151101T060000
END:STANDARD
BEGIN:DAYLIGHT
TZOFFSETFROM:-0500
TZOFFSETTO:-0400
TZNAME:EDT
DTSTART:20160313T070000
END:DAYLIGHT
BEGIN:STANDARD
TZOFFSETFROM:-0400
TZOFFSETTO:-0500
TZNAME:EST
DTSTART:20161106T060000
END:STANDARD
BEGIN:DAYLIGHT
TZOFFSETFROM:-0500
TZOFFSETTO:-0400
TZNAME:EDT
DTSTART:20170312T070000
END:DAYLIGHT
BEGIN:STANDARD
TZOFFSETFROM:-0400
TZOFFSETTO:-0500
TZNAME:EST
DTSTART:20171105T060000
END:STANDARD
END:VTIMEZONE
BEGIN:VEVENT
DTSTART;TZID=America/New_York:20160623T183000
DTEND;TZID=America/New_York:20160623T203000
DTSTAMP:20260421T205859
CREATED:20160606T150016Z
LAST-MODIFIED:20160614T163103Z
UID:6182-1466706600-1466713800@www.bgsqd.com
SUMMARY:PERSONS OF INTEREST: SELF-TAUGHT VISIONARIES
DESCRIPTION:  \nArtist+ Members Raynes Birkbeck\, Jerry the Marble Faun\, and Joyce McDonald discuss their artwork in Visual AIDS‘ summer exhibition PERSONS OF INTEREST. PERSONS OF INTEREST: SELF-TAUGHT VISIONARIES brings together these artists to consider the imaginative potential of work by self-taught\, visionary and outsider artists. \nProminently featured in the cult classic documentary Grey Gardens\, Jerry the Marble Faun now carves majestic sculptures out of limestone\, marble\, and more; he first took up sculpting in his partner’s apartment stairwell in 1987. \nThe spirit of Joyce McDonald‘s artwork erupts from internal visions and the range of emotions she has experienced throughout her colorful life\, as a minister\, in recovery\, and beyond. \nRaynes Birkbeck‘s idiosyncratic drawings and sculpture blend the supernatural and science fiction with the vernacular and commonplace\, resulting in work that he hopes shows “the beauty\, the power\, the love and the need of nature or a higher power. And even in the most mundane and commonplace things that “the Force” is always present.” \nPERSONS OF INTEREST\, curated by Sam Gordon for Visual AIDS\, features a wide cross section of Visual AIDS artist members and friends. The term\, “person of interest” often identifies someone in an investigation that possesses characteristics that merit further attention. The investigation presented here is a collection of drawing\, painting\, photography\, performance\, video\, and sculpture. \nPERSONS OF INTEREST\, presented by Visual AIDS at the Bureau of General Services—Queer Division features the trained and self taught\, long term survivors and the prematurely lost\, and individuals who live for us very much in the present\, some only in our hearts and minds. \nThe exhibition includes work by Raynes Birkbeck\, Mark Carter\, Ben Cuevas\, Chloe Dzubilo\, Arnold Fern\, Tim Greathouse\, Keith Haring\, Hudson\, Affrekka Jefferson\, Jerry the Marble Faun\, Joyce McDonald\, Lucas Michael\, Nicolas Moufarrege\, Luna Luis Ortiz\, Hugh Steers\, Hunter Reynolds\, Tseng Kwong Chi\, Muna Tseng\, and Frederick Weston. \nPictured works from left: \nJerry the Marble Faun\, Pairs (Big Edie and Little Edie)\, 2009\, Limestone with moss\, 13 1/2 x 19 x 6 1/2\, Courtesy the artist and Jackie Klempay Gallery \nRaynes Birkbeck\, Untitled\, 2012 Acrylic on paper \nJoyce McDonald\, “In Emotion”\, 1999\, Terra cotta\, cloth & paint\, 9x6x6 \n 
URL:https://www.bgsqd.com/event/persons-of-interest-self-taught-visionaries/
LOCATION:NY
ATTACH;FMTTYPE=image/jpeg:https://www.bgsqd.com/wp-content/uploads/2016/06/Visual-AIDS-June-23-event-FB.jpg
END:VEVENT
END:VCALENDAR