BEGIN:VCALENDAR
VERSION:2.0
PRODID:-//BGSQD - ECPv6.15.20//NONSGML v1.0//EN
CALSCALE:GREGORIAN
METHOD:PUBLISH
X-ORIGINAL-URL:https://www.bgsqd.com
X-WR-CALDESC:Events for BGSQD
REFRESH-INTERVAL;VALUE=DURATION:PT1H
X-Robots-Tag:noindex
X-PUBLISHED-TTL:PT1H
BEGIN:VTIMEZONE
TZID:America/New_York
BEGIN:DAYLIGHT
TZOFFSETFROM:-0500
TZOFFSETTO:-0400
TZNAME:EDT
DTSTART:20150308T070000
END:DAYLIGHT
BEGIN:STANDARD
TZOFFSETFROM:-0400
TZOFFSETTO:-0500
TZNAME:EST
DTSTART:20151101T060000
END:STANDARD
BEGIN:DAYLIGHT
TZOFFSETFROM:-0500
TZOFFSETTO:-0400
TZNAME:EDT
DTSTART:20160313T070000
END:DAYLIGHT
BEGIN:STANDARD
TZOFFSETFROM:-0400
TZOFFSETTO:-0500
TZNAME:EST
DTSTART:20161106T060000
END:STANDARD
BEGIN:DAYLIGHT
TZOFFSETFROM:-0500
TZOFFSETTO:-0400
TZNAME:EDT
DTSTART:20170312T070000
END:DAYLIGHT
BEGIN:STANDARD
TZOFFSETFROM:-0400
TZOFFSETTO:-0500
TZNAME:EST
DTSTART:20171105T060000
END:STANDARD
END:VTIMEZONE
BEGIN:VEVENT
DTSTART;TZID=America/New_York:20160618T183000
DTEND;TZID=America/New_York:20160618T203000
DTSTAMP:20260425T233252
CREATED:20160611T181723Z
LAST-MODIFIED:20160611T182443Z
UID:6211-1466274600-1466281800@www.bgsqd.com
SUMMARY:Lorraine Hansberry: Activist & Writer
DESCRIPTION:  \nJoin us for an evening of talks on the life of Lorraine Hansberry\, author of A Raisin in the Sun\, with a Focus on Her Political Activism and the People Who Influenced Her \nQ & A to follow \nGuest Speakers: \nReginald Manning\, Union Organizer \nKaren Murphy\, Actor & Writer \nLeila Ortiz\, Poet & Activist \nJames Wright\, African American Scholar \nProgram: \nJames Wright: Biographical Overview of the Life of Lorraine Hansberry \nReginald Manning: Lorraine Hansberry’s Involvement With the Civil Rights Movement \nLeila Ortiz: Lorraine Hansberry as a Feminist and Lesbian \nKaren Murphy: Lorraine Hansberry’s Journalism \n  \n  \n  \n 
URL:https://www.bgsqd.com/event/lorraine-hansberry/
LOCATION:NY
ATTACH;FMTTYPE=image/jpeg:https://www.bgsqd.com/wp-content/uploads/2016/06/Lorraine-Hansberry.jpg
END:VEVENT
END:VCALENDAR