BEGIN:VCALENDAR
VERSION:2.0
PRODID:-//BGSQD - ECPv6.15.20//NONSGML v1.0//EN
CALSCALE:GREGORIAN
METHOD:PUBLISH
X-WR-CALNAME:BGSQD
X-ORIGINAL-URL:https://www.bgsqd.com
X-WR-CALDESC:Events for BGSQD
REFRESH-INTERVAL;VALUE=DURATION:PT1H
X-Robots-Tag:noindex
X-PUBLISHED-TTL:PT1H
BEGIN:VTIMEZONE
TZID:America/New_York
BEGIN:DAYLIGHT
TZOFFSETFROM:-0500
TZOFFSETTO:-0400
TZNAME:EDT
DTSTART:20150308T070000
END:DAYLIGHT
BEGIN:STANDARD
TZOFFSETFROM:-0400
TZOFFSETTO:-0500
TZNAME:EST
DTSTART:20151101T060000
END:STANDARD
BEGIN:DAYLIGHT
TZOFFSETFROM:-0500
TZOFFSETTO:-0400
TZNAME:EDT
DTSTART:20160313T070000
END:DAYLIGHT
BEGIN:STANDARD
TZOFFSETFROM:-0400
TZOFFSETTO:-0500
TZNAME:EST
DTSTART:20161106T060000
END:STANDARD
BEGIN:DAYLIGHT
TZOFFSETFROM:-0500
TZOFFSETTO:-0400
TZNAME:EDT
DTSTART:20170312T070000
END:DAYLIGHT
BEGIN:STANDARD
TZOFFSETFROM:-0400
TZOFFSETTO:-0500
TZNAME:EST
DTSTART:20171105T060000
END:STANDARD
END:VTIMEZONE
BEGIN:VEVENT
DTSTART;TZID=America/New_York:20160603T063000
DTEND;TZID=America/New_York:20160603T170000
DTSTAMP:20260421T193541
CREATED:20160523T164330Z
LAST-MODIFIED:20160523T165002Z
UID:6148-1464935400-1464973200@www.bgsqd.com
SUMMARY:The Fourth Annual Bisexual Book Awards at Westbeth Artists Housing and Center for the Arts
DESCRIPTION:The Bi Writers Association presents A Multi-Arts Celebration of Bisexual Writing: The Fourth Annual Bisexual Book Awards at Westbeth Artists Housing and Center for the Arts  \n  \nReadings by finalists of the Bisexual Book Awards\, live music and a comic book art presentation capped off with the Bisexual Book Awards Ceremony and an after-party. \nThe Bureau will be will selling books! \nSchedule: 6:30pm book signings\, 7-10:30pm stage program\, 10:30pm book signings\, 11-1 after-party \nTickets: $15 in advance (seating is limited) or at the door \nProgram: \nHost: Sheela Lambert\, Director\, Bi Writers Association \nAuthor Readings-multiple genres: \nMemoir: Kate Evans / Call It Wonder: An Odyssey of Love\, Sex\, Spirit\, and Travel  \nBiography: Emily Bingham / Irrepressible: The Jazz Age Life of Henrietta Bingham  \nSpeculative Fiction (Fantasy): B.R. Sanders / Ariah  \nRomance: Francis Gideon / A Winter in Rome  \nMystery: Michelle Moore & Reesa Herberth / Peripheral People  \nErotic Fiction: Heidi Belleau & Sam Schooler / Dead Ringer  \nRomance: Megan Mulry / Bound with Honor  \nTeen/Young Adult: Erica Yang / Bad Idea  \nFiction: Redfern Jon Barrett / Giddy Death of the Gays & Strange Demise of Straights \nNon-fiction: Sheela Lambert / Bisexuality in Education\, edited by Maria Pallotta-Chiarolli \nComic Book Art Presentation: Elizabeth Beier “Bisexual Trials & Errors”  \nLive Music: Michael David Gordon & “Honeybird” Monique Mizrahi \nBisexual Book Awards Ceremony: Presentation of Awards \nAfter-party: Dinner & drinks at Malaparte Restaurant\, 753 Washington St. @ Bethune St. (a few steps away from Westbeth) cash bar/food. No entrance fee. \nMore performer details \nDirections: Option 1-Take A train to 14 St. Walk west to Washington Street. Turn L on Washington and walk down to Bethune. Make R on Bethune.\nOption 2-Take #1 train to Christopher St../Sheridan Sq. Walk west on Christopher to Washington St. Make R on Washington and walk up to Bethune. Turn L on Bethune. \nNeed info on Advance tickets or other questions? \nfuscialadybug (at) netzero (dot) com 917-583-1797 \n  \n 
URL:https://www.bgsqd.com/event/the-fourth-annual-bisexual-book-awards-at-westbeth-artists-housing-and-center-for-the-arts/
LOCATION:NY
ATTACH;FMTTYPE=image/jpeg:https://www.bgsqd.com/wp-content/uploads/2016/05/Bi-Writers-Awards.jpg
END:VEVENT
END:VCALENDAR