BEGIN:VCALENDAR
VERSION:2.0
PRODID:-//BGSQD - ECPv6.15.20//NONSGML v1.0//EN
CALSCALE:GREGORIAN
METHOD:PUBLISH
X-ORIGINAL-URL:https://www.bgsqd.com
X-WR-CALDESC:Events for BGSQD
REFRESH-INTERVAL;VALUE=DURATION:PT1H
X-Robots-Tag:noindex
X-PUBLISHED-TTL:PT1H
BEGIN:VTIMEZONE
TZID:America/New_York
BEGIN:DAYLIGHT
TZOFFSETFROM:-0500
TZOFFSETTO:-0400
TZNAME:EDT
DTSTART:20150308T070000
END:DAYLIGHT
BEGIN:STANDARD
TZOFFSETFROM:-0400
TZOFFSETTO:-0500
TZNAME:EST
DTSTART:20151101T060000
END:STANDARD
BEGIN:DAYLIGHT
TZOFFSETFROM:-0500
TZOFFSETTO:-0400
TZNAME:EDT
DTSTART:20160313T070000
END:DAYLIGHT
BEGIN:STANDARD
TZOFFSETFROM:-0400
TZOFFSETTO:-0500
TZNAME:EST
DTSTART:20161106T060000
END:STANDARD
BEGIN:DAYLIGHT
TZOFFSETFROM:-0500
TZOFFSETTO:-0400
TZNAME:EDT
DTSTART:20170312T070000
END:DAYLIGHT
BEGIN:STANDARD
TZOFFSETFROM:-0400
TZOFFSETTO:-0500
TZNAME:EST
DTSTART:20171105T060000
END:STANDARD
END:VTIMEZONE
BEGIN:VEVENT
DTSTART;TZID=America/New_York:20160602T180000
DTEND;TZID=America/New_York:20160602T210000
DTSTAMP:20260423T195550
CREATED:20160331T142134Z
LAST-MODIFIED:20160816T154456Z
UID:5964-1464890400-1464901200@www.bgsqd.com
SUMMARY:Persons of Interest
DESCRIPTION:  \nPERSONS OF INTEREST\, curated by Sam Gordon\, features a wide cross section of Visual AIDS artist members and friends. The term\, “person of interest” often identifies someone in an investigation that possesses characteristics that merit further attention. The investigation presented here is a collection of drawing\, painting\, photography\, performance\, video\, and sculpture. \nPERSONS OF INTEREST\, presented by Visual AIDS at the Bureau of General Services—Queer Division features the trained and self taught\, long term survivors and the prematurely lost\, and individuals who live for us very much in the present\, some only in our hearts and minds. \nThe exhibition includes work by Raynes Birkbeck\, Mark Carter\, Ben Cuevas\, Chloe Dzubilo\, Arnold Fern\, Tim Greathouse\, Keith Haring\, Hudson\, Affrekka Jefferson\, Jerry the Marble Faun\, Joyce McDonald\, Lucas Michael\, Nicolas Moufarrege\, Luna Luis Ortiz\, Hugh Steers\, Hunter Reynolds\, Tseng Kwong Chi\, Muna Tseng\, and Frederick Weston. \n  \nThe Bureau is a queer cultural center\, bookstore\, and event space hosted by The Lesbian\, Gay\, Bisexual & Transgender Community Center in New York City that seeks to excite and educate a self-confident\, sex-positive\, and supportive queer community by offering books\, publications\, and art and by hosting readings\, performances\, film screenings\, book discussion groups\, and workshops. \nVisual AIDS is the only contemporary arts organization fully committed to raising AIDS awareness and creating dialogue around HIV issues today\, by producing and presenting visual art projects\, exhibitions\, public forums and publications – while assisting artists living with HIV/AIDS. \nPersons of Interest will remain on view at the Bureau through Sunday\, September 4\, 2016. \nEvent image: Raynes Birkbeck\, Bad Billy\, 2016\, clay and mixed media \n  \n  \n 
URL:https://www.bgsqd.com/event/persons-of-interest/
LOCATION:NY
ATTACH;FMTTYPE=image/jpeg:https://www.bgsqd.com/wp-content/uploads/2016/03/RaynesB-sm-Persons-of-Interest.jpg
END:VEVENT
END:VCALENDAR