BEGIN:VCALENDAR
VERSION:2.0
PRODID:-//BGSQD - ECPv6.15.20//NONSGML v1.0//EN
CALSCALE:GREGORIAN
METHOD:PUBLISH
X-ORIGINAL-URL:https://www.bgsqd.com
X-WR-CALDESC:Events for BGSQD
REFRESH-INTERVAL;VALUE=DURATION:PT1H
X-Robots-Tag:noindex
X-PUBLISHED-TTL:PT1H
BEGIN:VTIMEZONE
TZID:America/New_York
BEGIN:DAYLIGHT
TZOFFSETFROM:-0500
TZOFFSETTO:-0400
TZNAME:EDT
DTSTART:20150308T070000
END:DAYLIGHT
BEGIN:STANDARD
TZOFFSETFROM:-0400
TZOFFSETTO:-0500
TZNAME:EST
DTSTART:20151101T060000
END:STANDARD
BEGIN:DAYLIGHT
TZOFFSETFROM:-0500
TZOFFSETTO:-0400
TZNAME:EDT
DTSTART:20160313T070000
END:DAYLIGHT
BEGIN:STANDARD
TZOFFSETFROM:-0400
TZOFFSETTO:-0500
TZNAME:EST
DTSTART:20161106T060000
END:STANDARD
BEGIN:DAYLIGHT
TZOFFSETFROM:-0500
TZOFFSETTO:-0400
TZNAME:EDT
DTSTART:20170312T070000
END:DAYLIGHT
BEGIN:STANDARD
TZOFFSETFROM:-0400
TZOFFSETTO:-0500
TZNAME:EST
DTSTART:20171105T060000
END:STANDARD
END:VTIMEZONE
BEGIN:VEVENT
DTSTART;TZID=America/New_York:20160531T193000
DTEND;TZID=America/New_York:20160531T213000
DTSTAMP:20260421T165918
CREATED:20160530T171001Z
LAST-MODIFIED:20160530T171001Z
UID:6163-1464723000-1464730200@www.bgsqd.com
SUMMARY:Union Square Slam Presents: Reparations
DESCRIPTION:  \nUnion Square Slam is excited for our Summer reading series\, featuring an extended open mic and a phenom featured artist. \nThis week\, come through to catch REPARATIONS in all their collective glory before they head out to compete at the Rustbelt Regional Slam in Columbus\, Ohio June 3-4!!\n6:00pm: Workshop w/ Taylor Steele\n7:30pm: Sign-ups and Socialize\n8:00pm: Open Mic\n8:45pm: Featured Poet: Reparations Collective \nAll Ages // Wheelchair Accessible\nOpen Mic // $5\nWorkshop // $10 \n  \nAbout our Feature: \nReparations is a poetic performance collective who will take over the world without the help of white folk. They don’t need you. Unless it’s monetary. Then\, give it to them. These radical\, black\, queer poets perform and teach workshops around identity\, activism\, trauma\, and healing. Reparations\, comprised of Ashley August\, Timothy DuWhite\, Roya Marsh\, and Taylor Steele\, became a collective after winning the 2015 Northbeast Underground Tournament Slam. \nIndividually\, they have performed at The Nuyorican Poets Cafe\, The Bowery Poetry Club\, The Triad Broadway House\, The Apollo\, Cherry Lane Theatre\, BAM\, the United Nations\, and many slam venues and universities across the nation. They have been published by such distinguished journals as Apogee Journal\, Huffington Post\, Blavity\, The Body is Not an Apology\, Blackberry: a magazine\, The Rumpus\, and many more. Their faces have been featured on Button Poetry\, SlamFind\, Def Jam\, and “Orange is the New Black” — well\, only one of them. They are ready to start a revolution. As a wise woman once said\, “Pay me what you owe me!” \n  \n 
URL:https://www.bgsqd.com/event/union-square-slam-reparations/
LOCATION:NY
ATTACH;FMTTYPE=image/jpeg:https://www.bgsqd.com/wp-content/uploads/2016/05/Reparations.jpg
END:VEVENT
END:VCALENDAR