BEGIN:VCALENDAR
VERSION:2.0
PRODID:-//BGSQD - ECPv6.15.20//NONSGML v1.0//EN
CALSCALE:GREGORIAN
METHOD:PUBLISH
X-WR-CALNAME:BGSQD
X-ORIGINAL-URL:https://www.bgsqd.com
X-WR-CALDESC:Events for BGSQD
REFRESH-INTERVAL;VALUE=DURATION:PT1H
X-Robots-Tag:noindex
X-PUBLISHED-TTL:PT1H
BEGIN:VTIMEZONE
TZID:America/New_York
BEGIN:DAYLIGHT
TZOFFSETFROM:-0500
TZOFFSETTO:-0400
TZNAME:EDT
DTSTART:20150308T070000
END:DAYLIGHT
BEGIN:STANDARD
TZOFFSETFROM:-0400
TZOFFSETTO:-0500
TZNAME:EST
DTSTART:20151101T060000
END:STANDARD
BEGIN:DAYLIGHT
TZOFFSETFROM:-0500
TZOFFSETTO:-0400
TZNAME:EDT
DTSTART:20160313T070000
END:DAYLIGHT
BEGIN:STANDARD
TZOFFSETFROM:-0400
TZOFFSETTO:-0500
TZNAME:EST
DTSTART:20161106T060000
END:STANDARD
BEGIN:DAYLIGHT
TZOFFSETFROM:-0500
TZOFFSETTO:-0400
TZNAME:EDT
DTSTART:20170312T070000
END:DAYLIGHT
BEGIN:STANDARD
TZOFFSETFROM:-0400
TZOFFSETTO:-0500
TZNAME:EST
DTSTART:20171105T060000
END:STANDARD
END:VTIMEZONE
BEGIN:VEVENT
DTSTART;TZID=America/New_York:20160520T190000
DTEND;TZID=America/New_York:20160520T210000
DTSTAMP:20260421T221919
CREATED:20160413T172519Z
LAST-MODIFIED:20160520T152722Z
UID:6040-1463770800-1463778000@www.bgsqd.com
SUMMARY:A Brief History of Gay Porn from "Boys in the Sand" to Bel Ami
DESCRIPTION:  \nJoin Kyle Renick for a lecture on the history of gay porn from 1971 to 2016 with film excerpts. \n  \nWho knew that a history of gay porn would be so popular? We’re expecting a big crowd\, so we’re moving things around to accommodate more people. We’ll be clearing out the store at 5:30 and opening doors for the event at 6 pm. First come\, first seated (or offered a standing position). Once we reach capacity we’ll close the door. We’ll start at 7:05 sharp! See you tonight!\n  \nSuggested donation of $5 to benefit the Bureau. No one turned away for lack of funds.\nKYLE RENICK served as Executive Director of WPA Theatre (Workshop of the Players Art Foundation\, Inc.) for 25 years\, producing more than one hundred Off-Broadway plays and musicals\, including such long-running successes as Little Shop of Horrors by Howard Ashman and Alan Menken\, and Steel Magnolias by Robert Harling. He produced new works by Charles Busch\, Paul Rudnick\, Doug Wright\, Israel Horovitz and Reynolds Price\, as well as revivals by Tennessee Williams\, Lillian Hellman and Edward Albee. Born and raised in St. Louis\, he attended Tufts University in Boston and graduated Phi Beta Kappa with degrees in Drama and Music. Mr. Renick has been a consultant for both the New York State Council on the Arts and National Endowment for the Arts\, and served for 12 years on the Board of Directors of the Alliance of Resident Theatres/New York. He has written extensively on movie music for Film Score Monthly and has had articles published in Theatre Times and Back Stage\, among other publications. Mr. Renick is a Charter Member of Early Music America\, and a current member of the Film Society of Lincoln Center\, Film Forum\, and the Chlotrudis Society for Independent Film. He does volunteer work for the Boston Early Music Festival and the New York Asian Film Festival. Mr. Renick is currently writing a book about actors and artists he worked with at WPA Theatre.
URL:https://www.bgsqd.com/event/a-brief-history-of-gay-porn-from-boys-in-the-sand-to-bel-ami/
LOCATION:NY
ATTACH;FMTTYPE=image/jpeg:https://www.bgsqd.com/wp-content/uploads/2016/04/Lukas-Ridgeston-and-Johan-Paulik-by-Kyle-Renick.jpg
END:VEVENT
END:VCALENDAR