BEGIN:VCALENDAR
VERSION:2.0
PRODID:-//BGSQD - ECPv6.15.20//NONSGML v1.0//EN
CALSCALE:GREGORIAN
METHOD:PUBLISH
X-ORIGINAL-URL:https://www.bgsqd.com
X-WR-CALDESC:Events for BGSQD
REFRESH-INTERVAL;VALUE=DURATION:PT1H
X-Robots-Tag:noindex
X-PUBLISHED-TTL:PT1H
BEGIN:VTIMEZONE
TZID:America/New_York
BEGIN:DAYLIGHT
TZOFFSETFROM:-0500
TZOFFSETTO:-0400
TZNAME:EDT
DTSTART:20150308T070000
END:DAYLIGHT
BEGIN:STANDARD
TZOFFSETFROM:-0400
TZOFFSETTO:-0500
TZNAME:EST
DTSTART:20151101T060000
END:STANDARD
BEGIN:DAYLIGHT
TZOFFSETFROM:-0500
TZOFFSETTO:-0400
TZNAME:EDT
DTSTART:20160313T070000
END:DAYLIGHT
BEGIN:STANDARD
TZOFFSETFROM:-0400
TZOFFSETTO:-0500
TZNAME:EST
DTSTART:20161106T060000
END:STANDARD
BEGIN:DAYLIGHT
TZOFFSETFROM:-0500
TZOFFSETTO:-0400
TZNAME:EDT
DTSTART:20170312T070000
END:DAYLIGHT
BEGIN:STANDARD
TZOFFSETFROM:-0400
TZOFFSETTO:-0500
TZNAME:EST
DTSTART:20171105T060000
END:STANDARD
END:VTIMEZONE
BEGIN:VEVENT
DTSTART;TZID=America/New_York:20160518T190000
DTEND;TZID=America/New_York:20160518T210000
DTSTAMP:20260421T221233
CREATED:20160413T153448Z
LAST-MODIFIED:20160502T140618Z
UID:6035-1463598000-1463605200@www.bgsqd.com
SUMMARY:Queer Virtue: What LGBTQ People Know About Life and Love and How It Can Revitalize Christianity: A Conversation with The Reverend Elizabeth M Edman
DESCRIPTION:  \nLGBTQ people are a gift to the Church and have the potential to revitalize Christianity. Frustrated by the notion that “Christian love = tolerance\,” the Reverend Elizabeth M. Edman argues that Christianity\, at its scriptural core\, is not a tradition that is hostile to queer people but is\, in fact\, itself inherently queer. Edman reveals how “queering” Christianity—that is\, disrupting simplistic ways of thinking about gender and sexuality\, and more broadly about self and other—can illuminate contemporary Christian faith and shows why queer Christians are gifts to the Church. \nEliel Cruz\, founder of Faithfully LGBT\, will join the Reverend Elizabeth M. Edman in conversation. \nSuggested donation of $5 to benefit the Bureau. No one turned away for lack of funds. \n  \nPhotograph by Keryn Lowry\nThe Reverend Elizabeth M. Edman is an Episcopal priest and a political strategist who has been illuminating people’s understanding of Christianity and queer life for more than twenty-five years. She has worked on some of the most pressing contemporary issues in the intersection of religion and sexuality\, serving as an inner-city hospital chaplain to people with HIV/AIDS\, from 1989 to 1995; helping craft political strategy for marriage-equality efforts; and persevering for almost two decades to become an openly queer priest in the Episcopal Church. (New York\, NY) \n \n  \n \nEliel Cruz is the Executive Director of Faith In America\, an organization dedicated to ending religious based bigotry towards LGBT people. He has worked on the intersections of faith\, sexuality\, and gender for five years. Cruz is a prolific speaker and writer on religion\, (bi)sexuality\, media\, and culture as seen in the Huffington Post\, Upworthy\, Mic\, Daily Dot\, Everyday Feminism\, Washington Post\, Sojourners\, DETAILS Magazine\, Quartz\, Rolling Stone. He’s the co-founder and former president of Intercollegiate Adventist Gay-Straight Alliance Coalition\, an organization that advocates for safe spaces for LGBT students at Seventh-day Adventist colleges. He has a BBA & BA in International Business and French Studies from Andrews University. \n  \n  \n 
URL:https://www.bgsqd.com/event/queer-virtue/
LOCATION:NY
ATTACH;FMTTYPE=image/jpeg:https://www.bgsqd.com/wp-content/uploads/2016/04/Edman-QueerVirtue.jpg
END:VEVENT
END:VCALENDAR