BEGIN:VCALENDAR
VERSION:2.0
PRODID:-//BGSQD - ECPv6.15.20//NONSGML v1.0//EN
CALSCALE:GREGORIAN
METHOD:PUBLISH
X-WR-CALNAME:BGSQD
X-ORIGINAL-URL:https://www.bgsqd.com
X-WR-CALDESC:Events for BGSQD
REFRESH-INTERVAL;VALUE=DURATION:PT1H
X-Robots-Tag:noindex
X-PUBLISHED-TTL:PT1H
BEGIN:VTIMEZONE
TZID:America/New_York
BEGIN:DAYLIGHT
TZOFFSETFROM:-0500
TZOFFSETTO:-0400
TZNAME:EDT
DTSTART:20150308T070000
END:DAYLIGHT
BEGIN:STANDARD
TZOFFSETFROM:-0400
TZOFFSETTO:-0500
TZNAME:EST
DTSTART:20151101T060000
END:STANDARD
BEGIN:DAYLIGHT
TZOFFSETFROM:-0500
TZOFFSETTO:-0400
TZNAME:EDT
DTSTART:20160313T070000
END:DAYLIGHT
BEGIN:STANDARD
TZOFFSETFROM:-0400
TZOFFSETTO:-0500
TZNAME:EST
DTSTART:20161106T060000
END:STANDARD
BEGIN:DAYLIGHT
TZOFFSETFROM:-0500
TZOFFSETTO:-0400
TZNAME:EDT
DTSTART:20170312T070000
END:DAYLIGHT
BEGIN:STANDARD
TZOFFSETFROM:-0400
TZOFFSETTO:-0500
TZNAME:EST
DTSTART:20171105T060000
END:STANDARD
END:VTIMEZONE
BEGIN:VEVENT
DTSTART;TZID=America/New_York:20160510T193000
DTEND;TZID=America/New_York:20160510T213000
DTSTAMP:20260421T223746
CREATED:20160509T170314Z
LAST-MODIFIED:20160509T170320Z
UID:6115-1462908600-1462915800@www.bgsqd.com
SUMMARY:Union Square Slam presents CANDICE ILOH
DESCRIPTION:Union Square Slam is delighted to roll out our new summer reading series\, featuring an extended open mic and a truly stellar featured artist. \nThis week\, we welcome Candice Iloh! \nCandice Iloh is a first-generation Nigerian-American writer\, poet\, and artist-educator residing in Brooklyn\, NY whose writing has appeared in Fjords Review\, The Grio\, For Harriet\, Blavity and elsewhere. A VONA fellowship recipient and Home School Lambda Literary Fellow\, Candice also contributes to Lambda Literary. She is a MFA candidate in Writing for Young People and Poetry at Lesley University and is currently working on her first young adult novel in verse. When not writing or teaching\, you can find her in a dance class in Bedstuy or follow her @becomer. \n6:30-7:30pm: Sign-ups and Socialize\n7:30-8:30pm: Open Mic\n8:30pm: Feature \nAll Ages // $5 \n  \n  \n  \n  \n  \n  \n 
URL:https://www.bgsqd.com/event/union-square-slam-candice-iloh/
LOCATION:NY
ATTACH;FMTTYPE=image/jpeg:https://www.bgsqd.com/wp-content/uploads/2016/05/Candice-Iloh.jpg
END:VEVENT
END:VCALENDAR