BEGIN:VCALENDAR
VERSION:2.0
PRODID:-//BGSQD - ECPv6.15.20//NONSGML v1.0//EN
CALSCALE:GREGORIAN
METHOD:PUBLISH
X-ORIGINAL-URL:https://www.bgsqd.com
X-WR-CALDESC:Events for BGSQD
REFRESH-INTERVAL;VALUE=DURATION:PT1H
X-Robots-Tag:noindex
X-PUBLISHED-TTL:PT1H
BEGIN:VTIMEZONE
TZID:America/New_York
BEGIN:DAYLIGHT
TZOFFSETFROM:-0500
TZOFFSETTO:-0400
TZNAME:EDT
DTSTART:20150308T070000
END:DAYLIGHT
BEGIN:STANDARD
TZOFFSETFROM:-0400
TZOFFSETTO:-0500
TZNAME:EST
DTSTART:20151101T060000
END:STANDARD
BEGIN:DAYLIGHT
TZOFFSETFROM:-0500
TZOFFSETTO:-0400
TZNAME:EDT
DTSTART:20160313T070000
END:DAYLIGHT
BEGIN:STANDARD
TZOFFSETFROM:-0400
TZOFFSETTO:-0500
TZNAME:EST
DTSTART:20161106T060000
END:STANDARD
BEGIN:DAYLIGHT
TZOFFSETFROM:-0500
TZOFFSETTO:-0400
TZNAME:EDT
DTSTART:20170312T070000
END:DAYLIGHT
BEGIN:STANDARD
TZOFFSETFROM:-0400
TZOFFSETTO:-0500
TZNAME:EST
DTSTART:20171105T060000
END:STANDARD
END:VTIMEZONE
BEGIN:VEVENT
DTSTART;TZID=America/New_York:20160411T190000
DTEND;TZID=America/New_York:20160411T213000
DTSTAMP:20260425T220952
CREATED:20160404T172355Z
LAST-MODIFIED:20160404T174143Z
UID:5985-1460401200-1460410200@www.bgsqd.com
SUMMARY:Union Square Slam Monday Fundraising Event with Emily Rose and Ben Clark plus special guests
DESCRIPTION:  \nThe National Poetry Slam is coming up and Union Square Slam plans to send its first team to Atlanta to be one of the great venues representing NYC. We are holding our first fundraising event on a MONDAY April 11 and we have quite a show planned for you. \nWe have Emily Rose and Ben Clark as our features. We have also included some spotlight features as well: Jeanann Verlee\, Jayson Smith\, Jani Rose\, Timothy DuWhite \nWe also plan on having a very limited open mic in case you want to add to the poetry glorious atmosphere. \nWe also plan on actioning off what is called a “Pile o’ Poetry” which will be a pile of poems submitted by different poets to sharpen your poetry reading needs. \nPlease note: the Bureau is closed on Mondays. Doors open at 7 PM for this event. \nDoors open at 7pm\nShow starts at 7:30pm\n$5 admission (all goes to sending a team to Atalanta)\nBeer\, wine and water will be there for donation as well.\nHost: Gabriel Ramirez \n  \n  \n  \n 
URL:https://www.bgsqd.com/event/uss-april-11/
LOCATION:NY
ATTACH;FMTTYPE=image/jpeg:https://www.bgsqd.com/wp-content/uploads/2016/04/USS-4-11-2016.jpg
END:VEVENT
END:VCALENDAR