BEGIN:VCALENDAR
VERSION:2.0
PRODID:-//BGSQD - ECPv6.15.20//NONSGML v1.0//EN
CALSCALE:GREGORIAN
METHOD:PUBLISH
X-WR-CALNAME:BGSQD
X-ORIGINAL-URL:https://www.bgsqd.com
X-WR-CALDESC:Events for BGSQD
REFRESH-INTERVAL;VALUE=DURATION:PT1H
X-Robots-Tag:noindex
X-PUBLISHED-TTL:PT1H
BEGIN:VTIMEZONE
TZID:America/New_York
BEGIN:DAYLIGHT
TZOFFSETFROM:-0500
TZOFFSETTO:-0400
TZNAME:EDT
DTSTART:20150308T070000
END:DAYLIGHT
BEGIN:STANDARD
TZOFFSETFROM:-0400
TZOFFSETTO:-0500
TZNAME:EST
DTSTART:20151101T060000
END:STANDARD
BEGIN:DAYLIGHT
TZOFFSETFROM:-0500
TZOFFSETTO:-0400
TZNAME:EDT
DTSTART:20160313T070000
END:DAYLIGHT
BEGIN:STANDARD
TZOFFSETFROM:-0400
TZOFFSETTO:-0500
TZNAME:EST
DTSTART:20161106T060000
END:STANDARD
BEGIN:DAYLIGHT
TZOFFSETFROM:-0500
TZOFFSETTO:-0400
TZNAME:EDT
DTSTART:20170312T070000
END:DAYLIGHT
BEGIN:STANDARD
TZOFFSETFROM:-0400
TZOFFSETTO:-0500
TZNAME:EST
DTSTART:20171105T060000
END:STANDARD
END:VTIMEZONE
BEGIN:VEVENT
DTSTART;TZID=America/New_York:20160410T170000
DTEND;TZID=America/New_York:20160410T183000
DTSTAMP:20260421T235732
CREATED:20160403T210338Z
LAST-MODIFIED:20160403T212109Z
UID:5975-1460307600-1460313000@www.bgsqd.com
SUMMARY:A Very Queer Disability Reading
DESCRIPTION:  \nCome meet these wonderful writers from QDA: A QUEER DISABILITY ANTHOLOGY and hear them read from their work! \n– Brenna Cyr\n– Cyree Jarelle Johnson\n– Liv Mammone\n– Donna Minkowitz \nThe editor Raymond Luczak will be there as well! \nCopies of QDA: A QUEER DISABILITY ANTHOLOGY are available for purchase at the Bureau. \n  \nThe event will be ASL-interpreted. Both the Bureau and The Center are wheelchair-accessible. \nSuggested donation of $5 to benefit the Bureau. No one turned away for lack of funds. \n  \n  \n 
URL:https://www.bgsqd.com/event/a-very-queer-disability-reading/
LOCATION:NY
ATTACH;FMTTYPE=image/jpeg:https://www.bgsqd.com/wp-content/uploads/2016/04/QDA.jpg
END:VEVENT
END:VCALENDAR